BEGIN:VCALENDAR
VERSION:2.0
PRODID:-//Trinity Baptist Church - ECPv6.15.20//NONSGML v1.0//EN
CALSCALE:GREGORIAN
METHOD:PUBLISH
X-ORIGINAL-URL:https://trinitytx.org
X-WR-CALDESC:Events for Trinity Baptist Church
REFRESH-INTERVAL;VALUE=DURATION:PT1H
X-Robots-Tag:noindex
X-PUBLISHED-TTL:PT1H
BEGIN:VTIMEZONE
TZID:America/Chicago
BEGIN:DAYLIGHT
TZOFFSETFROM:-0600
TZOFFSETTO:-0500
TZNAME:CDT
DTSTART:20220313T080000
END:DAYLIGHT
BEGIN:STANDARD
TZOFFSETFROM:-0500
TZOFFSETTO:-0600
TZNAME:CST
DTSTART:20221106T070000
END:STANDARD
BEGIN:DAYLIGHT
TZOFFSETFROM:-0600
TZOFFSETTO:-0500
TZNAME:CDT
DTSTART:20230312T080000
END:DAYLIGHT
BEGIN:STANDARD
TZOFFSETFROM:-0500
TZOFFSETTO:-0600
TZNAME:CST
DTSTART:20231105T070000
END:STANDARD
BEGIN:DAYLIGHT
TZOFFSETFROM:-0600
TZOFFSETTO:-0500
TZNAME:CDT
DTSTART:20240310T080000
END:DAYLIGHT
BEGIN:STANDARD
TZOFFSETFROM:-0500
TZOFFSETTO:-0600
TZNAME:CST
DTSTART:20241103T070000
END:STANDARD
BEGIN:DAYLIGHT
TZOFFSETFROM:-0600
TZOFFSETTO:-0500
TZNAME:CDT
DTSTART:20250309T080000
END:DAYLIGHT
BEGIN:STANDARD
TZOFFSETFROM:-0500
TZOFFSETTO:-0600
TZNAME:CST
DTSTART:20251102T070000
END:STANDARD
END:VTIMEZONE
BEGIN:VEVENT
DTSTART;TZID=America/Chicago:20240128T110000
DTEND;TZID=America/Chicago:20240128T120000
DTSTAMP:20260423T100044
CREATED:20210324T194256Z
LAST-MODIFIED:20210324T194256Z
UID:4853-1706439600-1706443200@trinitytx.org
SUMMARY:Worship Service - 2nd
DESCRIPTION:
URL:https://trinitytx.org/event/worship-service-2nd-2024-01-28/
LOCATION:Trinity Baptist Church\, 2830 W Ferguson Rd\, Mt Pleasant\, TX\, 75455\, United States
CATEGORIES:Church Events,Recurring Events
ATTACH;FMTTYPE=image/png:https://trinitytx.org/wp-content/uploads/2021/03/Welcome-to-Trinity-1920x1080-1.png
END:VEVENT
BEGIN:VEVENT
DTSTART;TZID=America/Chicago:20240128T093000
DTEND;TZID=America/Chicago:20240128T103000
DTSTAMP:20260423T100044
CREATED:20210324T193942Z
LAST-MODIFIED:20210324T193942Z
UID:4852-1706434200-1706437800@trinitytx.org
SUMMARY:Worship Service - 1st
DESCRIPTION:
URL:https://trinitytx.org/event/worship-service-1st-2024-01-28/
LOCATION:Trinity Baptist Church\, 2830 W Ferguson Rd\, Mt Pleasant\, TX\, 75455\, United States
CATEGORIES:Church Events,Recurring Events
ATTACH;FMTTYPE=image/png:https://trinitytx.org/wp-content/uploads/2021/03/Welcome-to-Trinity-1920x1080-1.png
END:VEVENT
BEGIN:VEVENT
DTSTART;TZID=America/Chicago:20240121T110000
DTEND;TZID=America/Chicago:20240121T120000
DTSTAMP:20260423T100044
CREATED:20210324T194256Z
LAST-MODIFIED:20210324T194256Z
UID:4844-1705834800-1705838400@trinitytx.org
SUMMARY:Worship Service - 2nd
DESCRIPTION:
URL:https://trinitytx.org/event/worship-service-2nd-2024-01-21/
LOCATION:Trinity Baptist Church\, 2830 W Ferguson Rd\, Mt Pleasant\, TX\, 75455\, United States
CATEGORIES:Church Events,Recurring Events
ATTACH;FMTTYPE=image/png:https://trinitytx.org/wp-content/uploads/2021/03/Welcome-to-Trinity-1920x1080-1.png
END:VEVENT
BEGIN:VEVENT
DTSTART;TZID=America/Chicago:20240121T093000
DTEND;TZID=America/Chicago:20240121T103000
DTSTAMP:20260423T100044
CREATED:20210324T193942Z
LAST-MODIFIED:20210324T193942Z
UID:4843-1705829400-1705833000@trinitytx.org
SUMMARY:Worship Service - 1st
DESCRIPTION:
URL:https://trinitytx.org/event/worship-service-1st-2024-01-21/
LOCATION:Trinity Baptist Church\, 2830 W Ferguson Rd\, Mt Pleasant\, TX\, 75455\, United States
CATEGORIES:Church Events,Recurring Events
ATTACH;FMTTYPE=image/png:https://trinitytx.org/wp-content/uploads/2021/03/Welcome-to-Trinity-1920x1080-1.png
END:VEVENT
BEGIN:VEVENT
DTSTART;TZID=America/Chicago:20240114T110000
DTEND;TZID=America/Chicago:20240114T120000
DTSTAMP:20260423T100044
CREATED:20210324T194256Z
LAST-MODIFIED:20210324T194256Z
UID:4835-1705230000-1705233600@trinitytx.org
SUMMARY:Worship Service - 2nd
DESCRIPTION:
URL:https://trinitytx.org/event/worship-service-2nd-2024-01-14/
LOCATION:Trinity Baptist Church\, 2830 W Ferguson Rd\, Mt Pleasant\, TX\, 75455\, United States
CATEGORIES:Church Events,Recurring Events
ATTACH;FMTTYPE=image/png:https://trinitytx.org/wp-content/uploads/2021/03/Welcome-to-Trinity-1920x1080-1.png
END:VEVENT
BEGIN:VEVENT
DTSTART;TZID=America/Chicago:20240114T093000
DTEND;TZID=America/Chicago:20240114T103000
DTSTAMP:20260423T100044
CREATED:20210324T193942Z
LAST-MODIFIED:20210324T193942Z
UID:4834-1705224600-1705228200@trinitytx.org
SUMMARY:Worship Service - 1st
DESCRIPTION:
URL:https://trinitytx.org/event/worship-service-1st-2024-01-14/
LOCATION:Trinity Baptist Church\, 2830 W Ferguson Rd\, Mt Pleasant\, TX\, 75455\, United States
CATEGORIES:Church Events,Recurring Events
ATTACH;FMTTYPE=image/png:https://trinitytx.org/wp-content/uploads/2021/03/Welcome-to-Trinity-1920x1080-1.png
END:VEVENT
BEGIN:VEVENT
DTSTART;TZID=America/Chicago:20240107T110000
DTEND;TZID=America/Chicago:20240107T120000
DTSTAMP:20260423T100044
CREATED:20210324T194256Z
LAST-MODIFIED:20210324T194256Z
UID:4819-1704625200-1704628800@trinitytx.org
SUMMARY:Worship Service - 2nd
DESCRIPTION:
URL:https://trinitytx.org/event/worship-service-2nd-2024-01-07/
LOCATION:Trinity Baptist Church\, 2830 W Ferguson Rd\, Mt Pleasant\, TX\, 75455\, United States
CATEGORIES:Church Events,Recurring Events
ATTACH;FMTTYPE=image/png:https://trinitytx.org/wp-content/uploads/2021/03/Welcome-to-Trinity-1920x1080-1.png
END:VEVENT
BEGIN:VEVENT
DTSTART;TZID=America/Chicago:20240107T093000
DTEND;TZID=America/Chicago:20240107T103000
DTSTAMP:20260423T100044
CREATED:20210324T193942Z
LAST-MODIFIED:20210324T193942Z
UID:4818-1704619800-1704623400@trinitytx.org
SUMMARY:Worship Service - 1st
DESCRIPTION:
URL:https://trinitytx.org/event/worship-service-1st-2024-01-07/
LOCATION:Trinity Baptist Church\, 2830 W Ferguson Rd\, Mt Pleasant\, TX\, 75455\, United States
CATEGORIES:Church Events,Recurring Events
ATTACH;FMTTYPE=image/png:https://trinitytx.org/wp-content/uploads/2021/03/Welcome-to-Trinity-1920x1080-1.png
END:VEVENT
BEGIN:VEVENT
DTSTART;TZID=America/Chicago:20231231T110000
DTEND;TZID=America/Chicago:20231231T120000
DTSTAMP:20260423T100044
CREATED:20210324T194256Z
LAST-MODIFIED:20210324T194256Z
UID:4810-1704020400-1704024000@trinitytx.org
SUMMARY:Worship Service - 2nd
DESCRIPTION:
URL:https://trinitytx.org/event/worship-service-2nd-2023-12-31/
LOCATION:Trinity Baptist Church\, 2830 W Ferguson Rd\, Mt Pleasant\, TX\, 75455\, United States
CATEGORIES:Church Events,Recurring Events
ATTACH;FMTTYPE=image/png:https://trinitytx.org/wp-content/uploads/2021/03/Welcome-to-Trinity-1920x1080-1.png
END:VEVENT
BEGIN:VEVENT
DTSTART;TZID=America/Chicago:20231231T093000
DTEND;TZID=America/Chicago:20231231T103000
DTSTAMP:20260423T100044
CREATED:20210324T193942Z
LAST-MODIFIED:20210324T193942Z
UID:4809-1704015000-1704018600@trinitytx.org
SUMMARY:Worship Service - 1st
DESCRIPTION:
URL:https://trinitytx.org/event/worship-service-1st-2023-12-31/
LOCATION:Trinity Baptist Church\, 2830 W Ferguson Rd\, Mt Pleasant\, TX\, 75455\, United States
CATEGORIES:Church Events,Recurring Events
ATTACH;FMTTYPE=image/png:https://trinitytx.org/wp-content/uploads/2021/03/Welcome-to-Trinity-1920x1080-1.png
END:VEVENT
BEGIN:VEVENT
DTSTART;TZID=America/Chicago:20231224T110000
DTEND;TZID=America/Chicago:20231224T120000
DTSTAMP:20260423T100044
CREATED:20210324T194256Z
LAST-MODIFIED:20210324T194256Z
UID:4801-1703415600-1703419200@trinitytx.org
SUMMARY:Worship Service - 2nd
DESCRIPTION:
URL:https://trinitytx.org/event/worship-service-2nd-2023-12-24/
LOCATION:Trinity Baptist Church\, 2830 W Ferguson Rd\, Mt Pleasant\, TX\, 75455\, United States
CATEGORIES:Church Events,Recurring Events
ATTACH;FMTTYPE=image/png:https://trinitytx.org/wp-content/uploads/2021/03/Welcome-to-Trinity-1920x1080-1.png
END:VEVENT
BEGIN:VEVENT
DTSTART;TZID=America/Chicago:20231224T093000
DTEND;TZID=America/Chicago:20231224T103000
DTSTAMP:20260423T100044
CREATED:20210324T193942Z
LAST-MODIFIED:20210324T193942Z
UID:4800-1703410200-1703413800@trinitytx.org
SUMMARY:Worship Service - 1st
DESCRIPTION:
URL:https://trinitytx.org/event/worship-service-1st-2023-12-24/
LOCATION:Trinity Baptist Church\, 2830 W Ferguson Rd\, Mt Pleasant\, TX\, 75455\, United States
CATEGORIES:Church Events,Recurring Events
ATTACH;FMTTYPE=image/png:https://trinitytx.org/wp-content/uploads/2021/03/Welcome-to-Trinity-1920x1080-1.png
END:VEVENT
BEGIN:VEVENT
DTSTART;TZID=America/Chicago:20231217T110000
DTEND;TZID=America/Chicago:20231217T120000
DTSTAMP:20260423T100044
CREATED:20210324T194256Z
LAST-MODIFIED:20210324T194256Z
UID:4787-1702810800-1702814400@trinitytx.org
SUMMARY:Worship Service - 2nd
DESCRIPTION:
URL:https://trinitytx.org/event/worship-service-2nd-2023-12-17/
LOCATION:Trinity Baptist Church\, 2830 W Ferguson Rd\, Mt Pleasant\, TX\, 75455\, United States
CATEGORIES:Church Events,Recurring Events
ATTACH;FMTTYPE=image/png:https://trinitytx.org/wp-content/uploads/2021/03/Welcome-to-Trinity-1920x1080-1.png
END:VEVENT
BEGIN:VEVENT
DTSTART;TZID=America/Chicago:20231217T093000
DTEND;TZID=America/Chicago:20231217T103000
DTSTAMP:20260423T100044
CREATED:20210324T193942Z
LAST-MODIFIED:20210324T193942Z
UID:4786-1702805400-1702809000@trinitytx.org
SUMMARY:Worship Service - 1st
DESCRIPTION:
URL:https://trinitytx.org/event/worship-service-1st-2023-12-17/
LOCATION:Trinity Baptist Church\, 2830 W Ferguson Rd\, Mt Pleasant\, TX\, 75455\, United States
CATEGORIES:Church Events,Recurring Events
ATTACH;FMTTYPE=image/png:https://trinitytx.org/wp-content/uploads/2021/03/Welcome-to-Trinity-1920x1080-1.png
END:VEVENT
BEGIN:VEVENT
DTSTART;TZID=America/Chicago:20231210T110000
DTEND;TZID=America/Chicago:20231210T120000
DTSTAMP:20260423T100044
CREATED:20210324T194256Z
LAST-MODIFIED:20210324T194256Z
UID:4777-1702206000-1702209600@trinitytx.org
SUMMARY:Worship Service - 2nd
DESCRIPTION:
URL:https://trinitytx.org/event/worship-service-2nd-2023-12-10/
LOCATION:Trinity Baptist Church\, 2830 W Ferguson Rd\, Mt Pleasant\, TX\, 75455\, United States
CATEGORIES:Church Events,Recurring Events
ATTACH;FMTTYPE=image/png:https://trinitytx.org/wp-content/uploads/2021/03/Welcome-to-Trinity-1920x1080-1.png
END:VEVENT
BEGIN:VEVENT
DTSTART;TZID=America/Chicago:20231210T093000
DTEND;TZID=America/Chicago:20231210T103000
DTSTAMP:20260423T100044
CREATED:20210324T193942Z
LAST-MODIFIED:20210324T193942Z
UID:4776-1702200600-1702204200@trinitytx.org
SUMMARY:Worship Service - 1st
DESCRIPTION:
URL:https://trinitytx.org/event/worship-service-1st-2023-12-10/
LOCATION:Trinity Baptist Church\, 2830 W Ferguson Rd\, Mt Pleasant\, TX\, 75455\, United States
CATEGORIES:Church Events,Recurring Events
ATTACH;FMTTYPE=image/png:https://trinitytx.org/wp-content/uploads/2021/03/Welcome-to-Trinity-1920x1080-1.png
END:VEVENT
BEGIN:VEVENT
DTSTART;TZID=America/Chicago:20231203T110000
DTEND;TZID=America/Chicago:20231203T120000
DTSTAMP:20260423T100044
CREATED:20210324T194256Z
LAST-MODIFIED:20210324T194256Z
UID:4762-1701601200-1701604800@trinitytx.org
SUMMARY:Worship Service - 2nd
DESCRIPTION:
URL:https://trinitytx.org/event/worship-service-2nd-2023-12-03/
LOCATION:Trinity Baptist Church\, 2830 W Ferguson Rd\, Mt Pleasant\, TX\, 75455\, United States
CATEGORIES:Church Events,Recurring Events
ATTACH;FMTTYPE=image/png:https://trinitytx.org/wp-content/uploads/2021/03/Welcome-to-Trinity-1920x1080-1.png
END:VEVENT
BEGIN:VEVENT
DTSTART;TZID=America/Chicago:20231203T093000
DTEND;TZID=America/Chicago:20231203T103000
DTSTAMP:20260423T100044
CREATED:20210324T193942Z
LAST-MODIFIED:20210324T193942Z
UID:4761-1701595800-1701599400@trinitytx.org
SUMMARY:Worship Service - 1st
DESCRIPTION:
URL:https://trinitytx.org/event/worship-service-1st-2023-12-03/
LOCATION:Trinity Baptist Church\, 2830 W Ferguson Rd\, Mt Pleasant\, TX\, 75455\, United States
CATEGORIES:Church Events,Recurring Events
ATTACH;FMTTYPE=image/png:https://trinitytx.org/wp-content/uploads/2021/03/Welcome-to-Trinity-1920x1080-1.png
END:VEVENT
BEGIN:VEVENT
DTSTART;TZID=America/Chicago:20231126T110000
DTEND;TZID=America/Chicago:20231126T120000
DTSTAMP:20260423T100044
CREATED:20210324T194256Z
LAST-MODIFIED:20210324T194256Z
UID:4740-1700996400-1701000000@trinitytx.org
SUMMARY:Worship Service - 2nd
DESCRIPTION:
URL:https://trinitytx.org/event/worship-service-2nd-2023-11-26/
LOCATION:Trinity Baptist Church\, 2830 W Ferguson Rd\, Mt Pleasant\, TX\, 75455\, United States
CATEGORIES:Church Events,Recurring Events
ATTACH;FMTTYPE=image/png:https://trinitytx.org/wp-content/uploads/2021/03/Welcome-to-Trinity-1920x1080-1.png
END:VEVENT
BEGIN:VEVENT
DTSTART;TZID=America/Chicago:20231126T093000
DTEND;TZID=America/Chicago:20231126T103000
DTSTAMP:20260423T100044
CREATED:20210324T193942Z
LAST-MODIFIED:20210324T193942Z
UID:4739-1700991000-1700994600@trinitytx.org
SUMMARY:Worship Service - 1st
DESCRIPTION:
URL:https://trinitytx.org/event/worship-service-1st-2023-11-26/
LOCATION:Trinity Baptist Church\, 2830 W Ferguson Rd\, Mt Pleasant\, TX\, 75455\, United States
CATEGORIES:Church Events,Recurring Events
ATTACH;FMTTYPE=image/png:https://trinitytx.org/wp-content/uploads/2021/03/Welcome-to-Trinity-1920x1080-1.png
END:VEVENT
BEGIN:VEVENT
DTSTART;TZID=America/Chicago:20231119T110000
DTEND;TZID=America/Chicago:20231119T120000
DTSTAMP:20260423T100044
CREATED:20210324T194256Z
LAST-MODIFIED:20210324T194256Z
UID:4724-1700391600-1700395200@trinitytx.org
SUMMARY:Worship Service - 2nd
DESCRIPTION:
URL:https://trinitytx.org/event/worship-service-2nd-2023-11-19/
LOCATION:Trinity Baptist Church\, 2830 W Ferguson Rd\, Mt Pleasant\, TX\, 75455\, United States
CATEGORIES:Church Events,Recurring Events
ATTACH;FMTTYPE=image/png:https://trinitytx.org/wp-content/uploads/2021/03/Welcome-to-Trinity-1920x1080-1.png
END:VEVENT
BEGIN:VEVENT
DTSTART;TZID=America/Chicago:20231119T093000
DTEND;TZID=America/Chicago:20231119T103000
DTSTAMP:20260423T100044
CREATED:20210324T193942Z
LAST-MODIFIED:20210324T193942Z
UID:4723-1700386200-1700389800@trinitytx.org
SUMMARY:Worship Service - 1st
DESCRIPTION:
URL:https://trinitytx.org/event/worship-service-1st-2023-11-19/
LOCATION:Trinity Baptist Church\, 2830 W Ferguson Rd\, Mt Pleasant\, TX\, 75455\, United States
CATEGORIES:Church Events,Recurring Events
ATTACH;FMTTYPE=image/png:https://trinitytx.org/wp-content/uploads/2021/03/Welcome-to-Trinity-1920x1080-1.png
END:VEVENT
BEGIN:VEVENT
DTSTART;TZID=America/Chicago:20231112T110000
DTEND;TZID=America/Chicago:20231112T120000
DTSTAMP:20260423T100044
CREATED:20210324T194256Z
LAST-MODIFIED:20210324T194256Z
UID:4713-1699786800-1699790400@trinitytx.org
SUMMARY:Worship Service - 2nd
DESCRIPTION:
URL:https://trinitytx.org/event/worship-service-2nd-2023-11-12/
LOCATION:Trinity Baptist Church\, 2830 W Ferguson Rd\, Mt Pleasant\, TX\, 75455\, United States
CATEGORIES:Church Events,Recurring Events
ATTACH;FMTTYPE=image/png:https://trinitytx.org/wp-content/uploads/2021/03/Welcome-to-Trinity-1920x1080-1.png
END:VEVENT
BEGIN:VEVENT
DTSTART;TZID=America/Chicago:20231112T093000
DTEND;TZID=America/Chicago:20231112T103000
DTSTAMP:20260423T100044
CREATED:20210324T193942Z
LAST-MODIFIED:20210324T193942Z
UID:4712-1699781400-1699785000@trinitytx.org
SUMMARY:Worship Service - 1st
DESCRIPTION:
URL:https://trinitytx.org/event/worship-service-1st-2023-11-12/
LOCATION:Trinity Baptist Church\, 2830 W Ferguson Rd\, Mt Pleasant\, TX\, 75455\, United States
CATEGORIES:Church Events,Recurring Events
ATTACH;FMTTYPE=image/png:https://trinitytx.org/wp-content/uploads/2021/03/Welcome-to-Trinity-1920x1080-1.png
END:VEVENT
BEGIN:VEVENT
DTSTART;TZID=America/Chicago:20231105T110000
DTEND;TZID=America/Chicago:20231105T120000
DTSTAMP:20260423T100044
CREATED:20210324T194256Z
LAST-MODIFIED:20210324T194256Z
UID:4704-1699182000-1699185600@trinitytx.org
SUMMARY:Worship Service - 2nd
DESCRIPTION:
URL:https://trinitytx.org/event/worship-service-2nd-2023-11-05/
LOCATION:Trinity Baptist Church\, 2830 W Ferguson Rd\, Mt Pleasant\, TX\, 75455\, United States
CATEGORIES:Church Events,Recurring Events
ATTACH;FMTTYPE=image/png:https://trinitytx.org/wp-content/uploads/2021/03/Welcome-to-Trinity-1920x1080-1.png
END:VEVENT
BEGIN:VEVENT
DTSTART;TZID=America/Chicago:20231105T093000
DTEND;TZID=America/Chicago:20231105T103000
DTSTAMP:20260423T100044
CREATED:20210324T193942Z
LAST-MODIFIED:20210324T193942Z
UID:4703-1699176600-1699180200@trinitytx.org
SUMMARY:Worship Service - 1st
DESCRIPTION:
URL:https://trinitytx.org/event/worship-service-1st-2023-11-05/
LOCATION:Trinity Baptist Church\, 2830 W Ferguson Rd\, Mt Pleasant\, TX\, 75455\, United States
CATEGORIES:Church Events,Recurring Events
ATTACH;FMTTYPE=image/png:https://trinitytx.org/wp-content/uploads/2021/03/Welcome-to-Trinity-1920x1080-1.png
END:VEVENT
BEGIN:VEVENT
DTSTART;TZID=America/Chicago:20231029T110000
DTEND;TZID=America/Chicago:20231029T120000
DTSTAMP:20260423T100044
CREATED:20210324T194256Z
LAST-MODIFIED:20210324T194256Z
UID:4691-1698577200-1698580800@trinitytx.org
SUMMARY:Worship Service - 2nd
DESCRIPTION:
URL:https://trinitytx.org/event/worship-service-2nd-2023-10-29/
LOCATION:Trinity Baptist Church\, 2830 W Ferguson Rd\, Mt Pleasant\, TX\, 75455\, United States
CATEGORIES:Church Events,Recurring Events
ATTACH;FMTTYPE=image/png:https://trinitytx.org/wp-content/uploads/2021/03/Welcome-to-Trinity-1920x1080-1.png
END:VEVENT
BEGIN:VEVENT
DTSTART;TZID=America/Chicago:20231029T093000
DTEND;TZID=America/Chicago:20231029T103000
DTSTAMP:20260423T100044
CREATED:20210324T193942Z
LAST-MODIFIED:20210324T193942Z
UID:4690-1698571800-1698575400@trinitytx.org
SUMMARY:Worship Service - 1st
DESCRIPTION:
URL:https://trinitytx.org/event/worship-service-1st-2023-10-29/
LOCATION:Trinity Baptist Church\, 2830 W Ferguson Rd\, Mt Pleasant\, TX\, 75455\, United States
CATEGORIES:Church Events,Recurring Events
ATTACH;FMTTYPE=image/png:https://trinitytx.org/wp-content/uploads/2021/03/Welcome-to-Trinity-1920x1080-1.png
END:VEVENT
BEGIN:VEVENT
DTSTART;TZID=America/Chicago:20231022T110000
DTEND;TZID=America/Chicago:20231022T120000
DTSTAMP:20260423T100044
CREATED:20210324T194256Z
LAST-MODIFIED:20210324T194256Z
UID:4684-1697972400-1697976000@trinitytx.org
SUMMARY:Worship Service - 2nd
DESCRIPTION:
URL:https://trinitytx.org/event/worship-service-2nd-2023-10-22/
LOCATION:Trinity Baptist Church\, 2830 W Ferguson Rd\, Mt Pleasant\, TX\, 75455\, United States
CATEGORIES:Church Events,Recurring Events
ATTACH;FMTTYPE=image/png:https://trinitytx.org/wp-content/uploads/2021/03/Welcome-to-Trinity-1920x1080-1.png
END:VEVENT
BEGIN:VEVENT
DTSTART;TZID=America/Chicago:20231022T093000
DTEND;TZID=America/Chicago:20231022T103000
DTSTAMP:20260423T100044
CREATED:20210324T193942Z
LAST-MODIFIED:20210324T193942Z
UID:4683-1697967000-1697970600@trinitytx.org
SUMMARY:Worship Service - 1st
DESCRIPTION:
URL:https://trinitytx.org/event/worship-service-1st-2023-10-22/
LOCATION:Trinity Baptist Church\, 2830 W Ferguson Rd\, Mt Pleasant\, TX\, 75455\, United States
CATEGORIES:Church Events,Recurring Events
ATTACH;FMTTYPE=image/png:https://trinitytx.org/wp-content/uploads/2021/03/Welcome-to-Trinity-1920x1080-1.png
END:VEVENT
END:VCALENDAR