BEGIN:VCALENDAR
VERSION:2.0
PRODID:-//Trinity Baptist Church - ECPv6.15.20//NONSGML v1.0//EN
CALSCALE:GREGORIAN
METHOD:PUBLISH
X-ORIGINAL-URL:https://trinitytx.org
X-WR-CALDESC:Events for Trinity Baptist Church
REFRESH-INTERVAL;VALUE=DURATION:PT1H
X-Robots-Tag:noindex
X-PUBLISHED-TTL:PT1H
BEGIN:VTIMEZONE
TZID:America/Chicago
BEGIN:DAYLIGHT
TZOFFSETFROM:-0600
TZOFFSETTO:-0500
TZNAME:CDT
DTSTART:20180311T080000
END:DAYLIGHT
BEGIN:STANDARD
TZOFFSETFROM:-0500
TZOFFSETTO:-0600
TZNAME:CST
DTSTART:20181104T070000
END:STANDARD
BEGIN:DAYLIGHT
TZOFFSETFROM:-0600
TZOFFSETTO:-0500
TZNAME:CDT
DTSTART:20190310T080000
END:DAYLIGHT
BEGIN:STANDARD
TZOFFSETFROM:-0500
TZOFFSETTO:-0600
TZNAME:CST
DTSTART:20191103T070000
END:STANDARD
BEGIN:DAYLIGHT
TZOFFSETFROM:-0600
TZOFFSETTO:-0500
TZNAME:CDT
DTSTART:20200308T080000
END:DAYLIGHT
BEGIN:STANDARD
TZOFFSETFROM:-0500
TZOFFSETTO:-0600
TZNAME:CST
DTSTART:20201101T070000
END:STANDARD
BEGIN:DAYLIGHT
TZOFFSETFROM:-0600
TZOFFSETTO:-0500
TZNAME:CDT
DTSTART:20210314T080000
END:DAYLIGHT
BEGIN:STANDARD
TZOFFSETFROM:-0500
TZOFFSETTO:-0600
TZNAME:CST
DTSTART:20211107T070000
END:STANDARD
END:VTIMEZONE
BEGIN:VEVENT
DTSTART;TZID=America/Chicago:20200419T110000
DTEND;TZID=America/Chicago:20200419T120000
DTSTAMP:20260425T104543
CREATED:20200414T213716Z
LAST-MODIFIED:20200414T213716Z
UID:3073-1587294000-1587297600@trinitytx.org
SUMMARY:Watch ONINE
DESCRIPTION:Watch ONLINE only at https://trinitytx.org/live or https://www.facebook.com/TrinityTX/live/
URL:https://trinitytx.org/event/watch-onine/
CATEGORIES:Recurring Events
ATTACH;FMTTYPE=image/png:https://trinitytx.org/wp-content/uploads/2020/04/Sermon-ONLINE-John.png
END:VEVENT
BEGIN:VEVENT
DTSTART;TZID=America/Chicago:20200322T110000
DTEND;TZID=America/Chicago:20200322T120000
DTSTAMP:20260425T104543
CREATED:20200414T211527Z
LAST-MODIFIED:20200414T211527Z
UID:3068-1584874800-1584878400@trinitytx.org
SUMMARY:Watch ONLINE
DESCRIPTION:Watch ONLINE only at https://trinitytx.org/live or https://www.facebook.com/TrinityTX/live/ \n  \n 
URL:https://trinitytx.org/event/watch-online/
CATEGORIES:Recurring Events
ATTACH;FMTTYPE=image/png:https://trinitytx.org/wp-content/uploads/2020/04/Sermon-ONLINE-John.png
END:VEVENT
BEGIN:VEVENT
DTSTART;TZID=America/Chicago:20190804T110000
DTEND;TZID=America/Chicago:20190804T120000
DTSTAMP:20260425T104543
CREATED:20190205T174714Z
LAST-MODIFIED:20190731T220439Z
UID:2327-1564916400-1564920000@trinitytx.org
SUMMARY:Worship Service
DESCRIPTION:
URL:https://trinitytx.org/event/worship-service-2019-08-04/
LOCATION:Trinity Baptist Church\, 2830 W Ferguson Rd\, Mt Pleasant\, TX\, 75455\, United States
CATEGORIES:Recurring Events
ATTACH;FMTTYPE=image/jpeg:https://trinitytx.org/wp-content/uploads/sermons/2019/03/2019-03-24-Tell-Others-About-Jesus-mp3-image.jpg
END:VEVENT
BEGIN:VEVENT
DTSTART;TZID=America/Chicago:20190320T180000
DTEND;TZID=America/Chicago:20190320T193000
DTSTAMP:20260425T104543
CREATED:20190313T183235Z
LAST-MODIFIED:20190313T183235Z
UID:1711-1553104800-1553110200@trinitytx.org
SUMMARY:Bible Study
DESCRIPTION:Bible Study for All Ages
URL:https://trinitytx.org/event/bible-study/
LOCATION:Trinity Baptist Church\, 2830 W Ferguson Rd\, Mt Pleasant\, TX\, 75455\, United States
CATEGORIES:Recurring Events
ATTACH;FMTTYPE=image/jpeg:https://trinitytx.org/wp-content/uploads/2019/02/MenandWomanStudying.jpg
END:VEVENT
BEGIN:VEVENT
DTSTART;TZID=America/Chicago:20190320T170000
DTEND;TZID=America/Chicago:20190320T180000
DTSTAMP:20260425T104543
CREATED:20190313T182929Z
LAST-MODIFIED:20190313T183406Z
UID:1702-1553101200-1553104800@trinitytx.org
SUMMARY:Fellowship Dinner
DESCRIPTION:Join us and enjoy a scrumptious dinner on Wednesdays at the Fellowship area of Trinity. \n 
URL:https://trinitytx.org/event/fellowship-dinner-2019-03-20/
LOCATION:Trinity Baptist Church\, 2830 W Ferguson Rd\, Mt Pleasant\, TX\, 75455\, United States
CATEGORIES:Recurring Events
ATTACH;FMTTYPE=image/jpeg:https://trinitytx.org/wp-content/uploads/2019/02/Trinity-Logo-Slide-Events.jpg
END:VEVENT
BEGIN:VEVENT
DTSTART;TZID=America/Chicago:20190210T093000
DTEND;TZID=America/Chicago:20190210T103000
DTSTAMP:20260425T104543
CREATED:20190205T173205Z
LAST-MODIFIED:20200414T203931Z
UID:1034-1549791000-1549794600@trinitytx.org
SUMMARY:Bible Study
DESCRIPTION:For all ages. Come learn about our Lord Jesus Christ. We have a wide variety of teaching styles and you’ll be sure that you will find something that meets your needs.
URL:https://trinitytx.org/event/sunday-school/
LOCATION:Trinity Baptist Church\, 2830 W Ferguson Rd\, Mt Pleasant\, TX\, 75455\, United States
CATEGORIES:Recurring Events
END:VEVENT
BEGIN:VEVENT
DTSTART;TZID=America/Chicago:20190106T110000
DTEND;TZID=America/Chicago:20190106T120000
DTSTAMP:20260425T104543
CREATED:20190205T174714Z
LAST-MODIFIED:20200414T203645Z
UID:1140-1546772400-1546776000@trinitytx.org
SUMMARY:Worship Service
DESCRIPTION:
URL:https://trinitytx.org/event/worship-service/
LOCATION:Trinity Baptist Church\, 2830 W Ferguson Rd\, Mt Pleasant\, TX\, 75455\, United States
CATEGORIES:Recurring Events
ATTACH;FMTTYPE=image/jpeg:https://trinitytx.org/wp-content/uploads/sermons/2019/03/2019-03-24-Tell-Others-About-Jesus-mp3-image.jpg
END:VEVENT
END:VCALENDAR