BEGIN:VCALENDAR
VERSION:2.0
PRODID:-//Trinity Baptist Church - ECPv6.15.20//NONSGML v1.0//EN
CALSCALE:GREGORIAN
METHOD:PUBLISH
X-ORIGINAL-URL:https://trinitytx.org
X-WR-CALDESC:Events for Trinity Baptist Church
REFRESH-INTERVAL;VALUE=DURATION:PT1H
X-Robots-Tag:noindex
X-PUBLISHED-TTL:PT1H
BEGIN:VTIMEZONE
TZID:America/Chicago
BEGIN:DAYLIGHT
TZOFFSETFROM:-0600
TZOFFSETTO:-0500
TZNAME:CDT
DTSTART:20200308T080000
END:DAYLIGHT
BEGIN:STANDARD
TZOFFSETFROM:-0500
TZOFFSETTO:-0600
TZNAME:CST
DTSTART:20201101T070000
END:STANDARD
BEGIN:DAYLIGHT
TZOFFSETFROM:-0600
TZOFFSETTO:-0500
TZNAME:CDT
DTSTART:20210314T080000
END:DAYLIGHT
BEGIN:STANDARD
TZOFFSETFROM:-0500
TZOFFSETTO:-0600
TZNAME:CST
DTSTART:20211107T070000
END:STANDARD
BEGIN:DAYLIGHT
TZOFFSETFROM:-0600
TZOFFSETTO:-0500
TZNAME:CDT
DTSTART:20220313T080000
END:DAYLIGHT
BEGIN:STANDARD
TZOFFSETFROM:-0500
TZOFFSETTO:-0600
TZNAME:CST
DTSTART:20221106T070000
END:STANDARD
BEGIN:DAYLIGHT
TZOFFSETFROM:-0600
TZOFFSETTO:-0500
TZNAME:CDT
DTSTART:20230312T080000
END:DAYLIGHT
BEGIN:STANDARD
TZOFFSETFROM:-0500
TZOFFSETTO:-0600
TZNAME:CST
DTSTART:20231105T070000
END:STANDARD
END:VTIMEZONE
BEGIN:VEVENT
DTSTART;TZID=America/Chicago:20220123T110000
DTEND;TZID=America/Chicago:20220123T120000
DTSTAMP:20260424T184614
CREATED:20210324T194256Z
LAST-MODIFIED:20210324T194256Z
UID:4277-1642935600-1642939200@trinitytx.org
SUMMARY:Worship Service - 2nd
DESCRIPTION:
URL:https://trinitytx.org/event/worship-service-2nd-2022-01-23/
LOCATION:Trinity Baptist Church\, 2830 W Ferguson Rd\, Mt Pleasant\, TX\, 75455\, United States
CATEGORIES:Church Events,Recurring Events
ATTACH;FMTTYPE=image/png:https://trinitytx.org/wp-content/uploads/2021/03/Welcome-to-Trinity-1920x1080-1.png
END:VEVENT
BEGIN:VEVENT
DTSTART;TZID=America/Chicago:20220123T093000
DTEND;TZID=America/Chicago:20220123T103000
DTSTAMP:20260424T184614
CREATED:20210324T193942Z
LAST-MODIFIED:20210324T193942Z
UID:4172-1642930200-1642933800@trinitytx.org
SUMMARY:Worship Service - 1st
DESCRIPTION:
URL:https://trinitytx.org/event/worship-service-1st-2022-01-23/
LOCATION:Trinity Baptist Church\, 2830 W Ferguson Rd\, Mt Pleasant\, TX\, 75455\, United States
CATEGORIES:Church Events,Recurring Events
ATTACH;FMTTYPE=image/png:https://trinitytx.org/wp-content/uploads/2021/03/Welcome-to-Trinity-1920x1080-1.png
END:VEVENT
BEGIN:VEVENT
DTSTART;TZID=America/Chicago:20220116T110000
DTEND;TZID=America/Chicago:20220116T120000
DTSTAMP:20260424T184614
CREATED:20210324T194256Z
LAST-MODIFIED:20210324T194256Z
UID:4276-1642330800-1642334400@trinitytx.org
SUMMARY:Worship Service - 2nd
DESCRIPTION:
URL:https://trinitytx.org/event/worship-service-2nd-2022-01-16/
LOCATION:Trinity Baptist Church\, 2830 W Ferguson Rd\, Mt Pleasant\, TX\, 75455\, United States
CATEGORIES:Church Events,Recurring Events
ATTACH;FMTTYPE=image/png:https://trinitytx.org/wp-content/uploads/2021/03/Welcome-to-Trinity-1920x1080-1.png
END:VEVENT
BEGIN:VEVENT
DTSTART;TZID=America/Chicago:20220116T093000
DTEND;TZID=America/Chicago:20220116T103000
DTSTAMP:20260424T184614
CREATED:20210324T193942Z
LAST-MODIFIED:20210324T193942Z
UID:4171-1642325400-1642329000@trinitytx.org
SUMMARY:Worship Service - 1st
DESCRIPTION:
URL:https://trinitytx.org/event/worship-service-1st-2022-01-16/
LOCATION:Trinity Baptist Church\, 2830 W Ferguson Rd\, Mt Pleasant\, TX\, 75455\, United States
CATEGORIES:Church Events,Recurring Events
ATTACH;FMTTYPE=image/png:https://trinitytx.org/wp-content/uploads/2021/03/Welcome-to-Trinity-1920x1080-1.png
END:VEVENT
BEGIN:VEVENT
DTSTART;TZID=America/Chicago:20220109T110000
DTEND;TZID=America/Chicago:20220109T120000
DTSTAMP:20260424T184614
CREATED:20210324T194256Z
LAST-MODIFIED:20210324T194256Z
UID:4275-1641726000-1641729600@trinitytx.org
SUMMARY:Worship Service - 2nd
DESCRIPTION:
URL:https://trinitytx.org/event/worship-service-2nd-2022-01-09/
LOCATION:Trinity Baptist Church\, 2830 W Ferguson Rd\, Mt Pleasant\, TX\, 75455\, United States
CATEGORIES:Church Events,Recurring Events
ATTACH;FMTTYPE=image/png:https://trinitytx.org/wp-content/uploads/2021/03/Welcome-to-Trinity-1920x1080-1.png
END:VEVENT
BEGIN:VEVENT
DTSTART;TZID=America/Chicago:20220109T093000
DTEND;TZID=America/Chicago:20220109T103000
DTSTAMP:20260424T184614
CREATED:20210324T193942Z
LAST-MODIFIED:20210324T193942Z
UID:4170-1641720600-1641724200@trinitytx.org
SUMMARY:Worship Service - 1st
DESCRIPTION:
URL:https://trinitytx.org/event/worship-service-1st-2022-01-09/
LOCATION:Trinity Baptist Church\, 2830 W Ferguson Rd\, Mt Pleasant\, TX\, 75455\, United States
CATEGORIES:Church Events,Recurring Events
ATTACH;FMTTYPE=image/png:https://trinitytx.org/wp-content/uploads/2021/03/Welcome-to-Trinity-1920x1080-1.png
END:VEVENT
BEGIN:VEVENT
DTSTART;TZID=America/Chicago:20220102T110000
DTEND;TZID=America/Chicago:20220102T120000
DTSTAMP:20260424T184614
CREATED:20210324T194256Z
LAST-MODIFIED:20210324T194256Z
UID:4274-1641121200-1641124800@trinitytx.org
SUMMARY:Worship Service - 2nd
DESCRIPTION:
URL:https://trinitytx.org/event/worship-service-2nd-2022-01-02/
LOCATION:Trinity Baptist Church\, 2830 W Ferguson Rd\, Mt Pleasant\, TX\, 75455\, United States
CATEGORIES:Church Events,Recurring Events
ATTACH;FMTTYPE=image/png:https://trinitytx.org/wp-content/uploads/2021/03/Welcome-to-Trinity-1920x1080-1.png
END:VEVENT
BEGIN:VEVENT
DTSTART;TZID=America/Chicago:20220102T093000
DTEND;TZID=America/Chicago:20220102T103000
DTSTAMP:20260424T184614
CREATED:20210324T193942Z
LAST-MODIFIED:20210324T193942Z
UID:4169-1641115800-1641119400@trinitytx.org
SUMMARY:Worship Service - 1st
DESCRIPTION:
URL:https://trinitytx.org/event/worship-service-1st-2022-01-02/
LOCATION:Trinity Baptist Church\, 2830 W Ferguson Rd\, Mt Pleasant\, TX\, 75455\, United States
CATEGORIES:Church Events,Recurring Events
ATTACH;FMTTYPE=image/png:https://trinitytx.org/wp-content/uploads/2021/03/Welcome-to-Trinity-1920x1080-1.png
END:VEVENT
BEGIN:VEVENT
DTSTART;TZID=America/Chicago:20211226T110000
DTEND;TZID=America/Chicago:20211226T120000
DTSTAMP:20260424T184614
CREATED:20210324T194256Z
LAST-MODIFIED:20210324T194256Z
UID:4273-1640516400-1640520000@trinitytx.org
SUMMARY:Worship Service - 2nd
DESCRIPTION:
URL:https://trinitytx.org/event/worship-service-2nd-2021-12-26/
LOCATION:Trinity Baptist Church\, 2830 W Ferguson Rd\, Mt Pleasant\, TX\, 75455\, United States
CATEGORIES:Church Events,Recurring Events
ATTACH;FMTTYPE=image/png:https://trinitytx.org/wp-content/uploads/2021/03/Welcome-to-Trinity-1920x1080-1.png
END:VEVENT
BEGIN:VEVENT
DTSTART;TZID=America/Chicago:20211219T110000
DTEND;TZID=America/Chicago:20211219T120000
DTSTAMP:20260424T184614
CREATED:20210324T194256Z
LAST-MODIFIED:20210324T194256Z
UID:4272-1639911600-1639915200@trinitytx.org
SUMMARY:Worship Service - 2nd
DESCRIPTION:
URL:https://trinitytx.org/event/worship-service-2nd-2021-12-19/
LOCATION:Trinity Baptist Church\, 2830 W Ferguson Rd\, Mt Pleasant\, TX\, 75455\, United States
CATEGORIES:Church Events,Recurring Events
ATTACH;FMTTYPE=image/png:https://trinitytx.org/wp-content/uploads/2021/03/Welcome-to-Trinity-1920x1080-1.png
END:VEVENT
BEGIN:VEVENT
DTSTART;TZID=America/Chicago:20211219T093000
DTEND;TZID=America/Chicago:20211219T103000
DTSTAMP:20260424T184614
CREATED:20210324T193942Z
LAST-MODIFIED:20210324T193942Z
UID:4167-1639906200-1639909800@trinitytx.org
SUMMARY:Worship Service - 1st
DESCRIPTION:
URL:https://trinitytx.org/event/worship-service-1st-2021-12-19/
LOCATION:Trinity Baptist Church\, 2830 W Ferguson Rd\, Mt Pleasant\, TX\, 75455\, United States
CATEGORIES:Church Events,Recurring Events
ATTACH;FMTTYPE=image/png:https://trinitytx.org/wp-content/uploads/2021/03/Welcome-to-Trinity-1920x1080-1.png
END:VEVENT
BEGIN:VEVENT
DTSTART;TZID=America/Chicago:20211212T110000
DTEND;TZID=America/Chicago:20211212T120000
DTSTAMP:20260424T184614
CREATED:20210324T194256Z
LAST-MODIFIED:20210324T194256Z
UID:4271-1639306800-1639310400@trinitytx.org
SUMMARY:Worship Service - 2nd
DESCRIPTION:
URL:https://trinitytx.org/event/worship-service-2nd-2021-12-12/
LOCATION:Trinity Baptist Church\, 2830 W Ferguson Rd\, Mt Pleasant\, TX\, 75455\, United States
CATEGORIES:Church Events,Recurring Events
ATTACH;FMTTYPE=image/png:https://trinitytx.org/wp-content/uploads/2021/03/Welcome-to-Trinity-1920x1080-1.png
END:VEVENT
BEGIN:VEVENT
DTSTART;TZID=America/Chicago:20211212T093000
DTEND;TZID=America/Chicago:20211212T103000
DTSTAMP:20260424T184614
CREATED:20210324T193942Z
LAST-MODIFIED:20210324T193942Z
UID:4166-1639301400-1639305000@trinitytx.org
SUMMARY:Worship Service - 1st
DESCRIPTION:
URL:https://trinitytx.org/event/worship-service-1st-2021-12-12/
LOCATION:Trinity Baptist Church\, 2830 W Ferguson Rd\, Mt Pleasant\, TX\, 75455\, United States
CATEGORIES:Church Events,Recurring Events
ATTACH;FMTTYPE=image/png:https://trinitytx.org/wp-content/uploads/2021/03/Welcome-to-Trinity-1920x1080-1.png
END:VEVENT
BEGIN:VEVENT
DTSTART;TZID=America/Chicago:20211205T110000
DTEND;TZID=America/Chicago:20211205T120000
DTSTAMP:20260424T184614
CREATED:20210324T194256Z
LAST-MODIFIED:20210324T194256Z
UID:4270-1638702000-1638705600@trinitytx.org
SUMMARY:Worship Service - 2nd
DESCRIPTION:
URL:https://trinitytx.org/event/worship-service-2nd-2021-12-05/
LOCATION:Trinity Baptist Church\, 2830 W Ferguson Rd\, Mt Pleasant\, TX\, 75455\, United States
CATEGORIES:Church Events,Recurring Events
ATTACH;FMTTYPE=image/png:https://trinitytx.org/wp-content/uploads/2021/03/Welcome-to-Trinity-1920x1080-1.png
END:VEVENT
BEGIN:VEVENT
DTSTART;TZID=America/Chicago:20211205T093000
DTEND;TZID=America/Chicago:20211205T103000
DTSTAMP:20260424T184614
CREATED:20210324T193942Z
LAST-MODIFIED:20210324T193942Z
UID:4165-1638696600-1638700200@trinitytx.org
SUMMARY:Worship Service - 1st
DESCRIPTION:
URL:https://trinitytx.org/event/worship-service-1st-2021-12-05/
LOCATION:Trinity Baptist Church\, 2830 W Ferguson Rd\, Mt Pleasant\, TX\, 75455\, United States
CATEGORIES:Church Events,Recurring Events
ATTACH;FMTTYPE=image/png:https://trinitytx.org/wp-content/uploads/2021/03/Welcome-to-Trinity-1920x1080-1.png
END:VEVENT
BEGIN:VEVENT
DTSTART;TZID=America/Chicago:20211128T110000
DTEND;TZID=America/Chicago:20211128T120000
DTSTAMP:20260424T184614
CREATED:20210324T194256Z
LAST-MODIFIED:20210324T194256Z
UID:4269-1638097200-1638100800@trinitytx.org
SUMMARY:Worship Service - 2nd
DESCRIPTION:
URL:https://trinitytx.org/event/worship-service-2nd-2021-11-28/
LOCATION:Trinity Baptist Church\, 2830 W Ferguson Rd\, Mt Pleasant\, TX\, 75455\, United States
CATEGORIES:Church Events,Recurring Events
ATTACH;FMTTYPE=image/png:https://trinitytx.org/wp-content/uploads/2021/03/Welcome-to-Trinity-1920x1080-1.png
END:VEVENT
BEGIN:VEVENT
DTSTART;TZID=America/Chicago:20211128T093000
DTEND;TZID=America/Chicago:20211128T103000
DTSTAMP:20260424T184614
CREATED:20210324T193942Z
LAST-MODIFIED:20210324T193942Z
UID:4164-1638091800-1638095400@trinitytx.org
SUMMARY:Worship Service - 1st
DESCRIPTION:
URL:https://trinitytx.org/event/worship-service-1st-2021-11-28/
LOCATION:Trinity Baptist Church\, 2830 W Ferguson Rd\, Mt Pleasant\, TX\, 75455\, United States
CATEGORIES:Church Events,Recurring Events
ATTACH;FMTTYPE=image/png:https://trinitytx.org/wp-content/uploads/2021/03/Welcome-to-Trinity-1920x1080-1.png
END:VEVENT
BEGIN:VEVENT
DTSTART;TZID=America/Chicago:20211121T110000
DTEND;TZID=America/Chicago:20211121T120000
DTSTAMP:20260424T184614
CREATED:20210324T194256Z
LAST-MODIFIED:20210324T194256Z
UID:4268-1637492400-1637496000@trinitytx.org
SUMMARY:Worship Service - 2nd
DESCRIPTION:
URL:https://trinitytx.org/event/worship-service-2nd-2021-11-21/
LOCATION:Trinity Baptist Church\, 2830 W Ferguson Rd\, Mt Pleasant\, TX\, 75455\, United States
CATEGORIES:Church Events,Recurring Events
ATTACH;FMTTYPE=image/png:https://trinitytx.org/wp-content/uploads/2021/03/Welcome-to-Trinity-1920x1080-1.png
END:VEVENT
BEGIN:VEVENT
DTSTART;TZID=America/Chicago:20211121T093000
DTEND;TZID=America/Chicago:20211121T103000
DTSTAMP:20260424T184614
CREATED:20210324T193942Z
LAST-MODIFIED:20210324T193942Z
UID:4163-1637487000-1637490600@trinitytx.org
SUMMARY:Worship Service - 1st
DESCRIPTION:
URL:https://trinitytx.org/event/worship-service-1st-2021-11-21/
LOCATION:Trinity Baptist Church\, 2830 W Ferguson Rd\, Mt Pleasant\, TX\, 75455\, United States
CATEGORIES:Church Events,Recurring Events
ATTACH;FMTTYPE=image/png:https://trinitytx.org/wp-content/uploads/2021/03/Welcome-to-Trinity-1920x1080-1.png
END:VEVENT
BEGIN:VEVENT
DTSTART;TZID=America/Chicago:20211114T110000
DTEND;TZID=America/Chicago:20211114T120000
DTSTAMP:20260424T184614
CREATED:20210324T194256Z
LAST-MODIFIED:20210324T194256Z
UID:4267-1636887600-1636891200@trinitytx.org
SUMMARY:Worship Service - 2nd
DESCRIPTION:
URL:https://trinitytx.org/event/worship-service-2nd-2021-11-14/
LOCATION:Trinity Baptist Church\, 2830 W Ferguson Rd\, Mt Pleasant\, TX\, 75455\, United States
CATEGORIES:Church Events,Recurring Events
ATTACH;FMTTYPE=image/png:https://trinitytx.org/wp-content/uploads/2021/03/Welcome-to-Trinity-1920x1080-1.png
END:VEVENT
BEGIN:VEVENT
DTSTART;TZID=America/Chicago:20211114T093000
DTEND;TZID=America/Chicago:20211114T103000
DTSTAMP:20260424T184614
CREATED:20210324T193942Z
LAST-MODIFIED:20210324T193942Z
UID:4162-1636882200-1636885800@trinitytx.org
SUMMARY:Worship Service - 1st
DESCRIPTION:
URL:https://trinitytx.org/event/worship-service-1st-2021-11-14/
LOCATION:Trinity Baptist Church\, 2830 W Ferguson Rd\, Mt Pleasant\, TX\, 75455\, United States
CATEGORIES:Church Events,Recurring Events
ATTACH;FMTTYPE=image/png:https://trinitytx.org/wp-content/uploads/2021/03/Welcome-to-Trinity-1920x1080-1.png
END:VEVENT
BEGIN:VEVENT
DTSTART;TZID=America/Chicago:20211107T110000
DTEND;TZID=America/Chicago:20211107T120000
DTSTAMP:20260424T184614
CREATED:20210324T194256Z
LAST-MODIFIED:20210324T194256Z
UID:4266-1636282800-1636286400@trinitytx.org
SUMMARY:Worship Service - 2nd
DESCRIPTION:
URL:https://trinitytx.org/event/worship-service-2nd-2021-11-07/
LOCATION:Trinity Baptist Church\, 2830 W Ferguson Rd\, Mt Pleasant\, TX\, 75455\, United States
CATEGORIES:Church Events,Recurring Events
ATTACH;FMTTYPE=image/png:https://trinitytx.org/wp-content/uploads/2021/03/Welcome-to-Trinity-1920x1080-1.png
END:VEVENT
BEGIN:VEVENT
DTSTART;TZID=America/Chicago:20211107T093000
DTEND;TZID=America/Chicago:20211107T103000
DTSTAMP:20260424T184614
CREATED:20210324T193942Z
LAST-MODIFIED:20210324T193942Z
UID:4161-1636277400-1636281000@trinitytx.org
SUMMARY:Worship Service - 1st
DESCRIPTION:
URL:https://trinitytx.org/event/worship-service-1st-2021-11-07/
LOCATION:Trinity Baptist Church\, 2830 W Ferguson Rd\, Mt Pleasant\, TX\, 75455\, United States
CATEGORIES:Church Events,Recurring Events
ATTACH;FMTTYPE=image/png:https://trinitytx.org/wp-content/uploads/2021/03/Welcome-to-Trinity-1920x1080-1.png
END:VEVENT
BEGIN:VEVENT
DTSTART;TZID=America/Chicago:20211031T110000
DTEND;TZID=America/Chicago:20211031T120000
DTSTAMP:20260424T184614
CREATED:20210324T194256Z
LAST-MODIFIED:20210324T194256Z
UID:4265-1635678000-1635681600@trinitytx.org
SUMMARY:Worship Service - 2nd
DESCRIPTION:
URL:https://trinitytx.org/event/worship-service-2nd-2021-10-31/
LOCATION:Trinity Baptist Church\, 2830 W Ferguson Rd\, Mt Pleasant\, TX\, 75455\, United States
CATEGORIES:Church Events,Recurring Events
ATTACH;FMTTYPE=image/png:https://trinitytx.org/wp-content/uploads/2021/03/Welcome-to-Trinity-1920x1080-1.png
END:VEVENT
BEGIN:VEVENT
DTSTART;TZID=America/Chicago:20211031T093000
DTEND;TZID=America/Chicago:20211031T103000
DTSTAMP:20260424T184614
CREATED:20210324T193942Z
LAST-MODIFIED:20210324T193942Z
UID:4160-1635672600-1635676200@trinitytx.org
SUMMARY:Worship Service - 1st
DESCRIPTION:
URL:https://trinitytx.org/event/worship-service-1st-2021-10-31/
LOCATION:Trinity Baptist Church\, 2830 W Ferguson Rd\, Mt Pleasant\, TX\, 75455\, United States
CATEGORIES:Church Events,Recurring Events
ATTACH;FMTTYPE=image/png:https://trinitytx.org/wp-content/uploads/2021/03/Welcome-to-Trinity-1920x1080-1.png
END:VEVENT
BEGIN:VEVENT
DTSTART;TZID=America/Chicago:20211024T110000
DTEND;TZID=America/Chicago:20211024T120000
DTSTAMP:20260424T184614
CREATED:20210324T194256Z
LAST-MODIFIED:20210324T194256Z
UID:4264-1635073200-1635076800@trinitytx.org
SUMMARY:Worship Service - 2nd
DESCRIPTION:
URL:https://trinitytx.org/event/worship-service-2nd-2021-10-24/
LOCATION:Trinity Baptist Church\, 2830 W Ferguson Rd\, Mt Pleasant\, TX\, 75455\, United States
CATEGORIES:Church Events,Recurring Events
ATTACH;FMTTYPE=image/png:https://trinitytx.org/wp-content/uploads/2021/03/Welcome-to-Trinity-1920x1080-1.png
END:VEVENT
BEGIN:VEVENT
DTSTART;TZID=America/Chicago:20211024T093000
DTEND;TZID=America/Chicago:20211024T103000
DTSTAMP:20260424T184614
CREATED:20210324T193942Z
LAST-MODIFIED:20210324T193942Z
UID:4159-1635067800-1635071400@trinitytx.org
SUMMARY:Worship Service - 1st
DESCRIPTION:
URL:https://trinitytx.org/event/worship-service-1st-2021-10-24/
LOCATION:Trinity Baptist Church\, 2830 W Ferguson Rd\, Mt Pleasant\, TX\, 75455\, United States
CATEGORIES:Church Events,Recurring Events
ATTACH;FMTTYPE=image/png:https://trinitytx.org/wp-content/uploads/2021/03/Welcome-to-Trinity-1920x1080-1.png
END:VEVENT
BEGIN:VEVENT
DTSTART;TZID=America/Chicago:20211017T110000
DTEND;TZID=America/Chicago:20211017T120000
DTSTAMP:20260424T184614
CREATED:20210324T194256Z
LAST-MODIFIED:20210324T194256Z
UID:4263-1634468400-1634472000@trinitytx.org
SUMMARY:Worship Service - 2nd
DESCRIPTION:
URL:https://trinitytx.org/event/worship-service-2nd-2021-10-17/
LOCATION:Trinity Baptist Church\, 2830 W Ferguson Rd\, Mt Pleasant\, TX\, 75455\, United States
CATEGORIES:Church Events,Recurring Events
ATTACH;FMTTYPE=image/png:https://trinitytx.org/wp-content/uploads/2021/03/Welcome-to-Trinity-1920x1080-1.png
END:VEVENT
BEGIN:VEVENT
DTSTART;TZID=America/Chicago:20211017T093000
DTEND;TZID=America/Chicago:20211017T103000
DTSTAMP:20260424T184614
CREATED:20210324T193942Z
LAST-MODIFIED:20210324T193942Z
UID:4158-1634463000-1634466600@trinitytx.org
SUMMARY:Worship Service - 1st
DESCRIPTION:
URL:https://trinitytx.org/event/worship-service-1st-2021-10-17/
LOCATION:Trinity Baptist Church\, 2830 W Ferguson Rd\, Mt Pleasant\, TX\, 75455\, United States
CATEGORIES:Church Events,Recurring Events
ATTACH;FMTTYPE=image/png:https://trinitytx.org/wp-content/uploads/2021/03/Welcome-to-Trinity-1920x1080-1.png
END:VEVENT
BEGIN:VEVENT
DTSTART;TZID=America/Chicago:20211010T110000
DTEND;TZID=America/Chicago:20211010T120000
DTSTAMP:20260424T184614
CREATED:20210324T194256Z
LAST-MODIFIED:20210324T194256Z
UID:4262-1633863600-1633867200@trinitytx.org
SUMMARY:Worship Service - 2nd
DESCRIPTION:
URL:https://trinitytx.org/event/worship-service-2nd-2021-10-10/
LOCATION:Trinity Baptist Church\, 2830 W Ferguson Rd\, Mt Pleasant\, TX\, 75455\, United States
CATEGORIES:Church Events,Recurring Events
ATTACH;FMTTYPE=image/png:https://trinitytx.org/wp-content/uploads/2021/03/Welcome-to-Trinity-1920x1080-1.png
END:VEVENT
END:VCALENDAR