BEGIN:VCALENDAR
VERSION:2.0
PRODID:-//Trinity Baptist Church - ECPv6.15.20//NONSGML v1.0//EN
CALSCALE:GREGORIAN
METHOD:PUBLISH
X-WR-CALNAME:Trinity Baptist Church
X-ORIGINAL-URL:https://trinitytx.org
X-WR-CALDESC:Events for Trinity Baptist Church
REFRESH-INTERVAL;VALUE=DURATION:PT1H
X-Robots-Tag:noindex
X-PUBLISHED-TTL:PT1H
BEGIN:VTIMEZONE
TZID:America/Chicago
BEGIN:DAYLIGHT
TZOFFSETFROM:-0600
TZOFFSETTO:-0500
TZNAME:CDT
DTSTART:20210314T080000
END:DAYLIGHT
BEGIN:STANDARD
TZOFFSETFROM:-0500
TZOFFSETTO:-0600
TZNAME:CST
DTSTART:20211107T070000
END:STANDARD
BEGIN:DAYLIGHT
TZOFFSETFROM:-0600
TZOFFSETTO:-0500
TZNAME:CDT
DTSTART:20220313T080000
END:DAYLIGHT
BEGIN:STANDARD
TZOFFSETFROM:-0500
TZOFFSETTO:-0600
TZNAME:CST
DTSTART:20221106T070000
END:STANDARD
BEGIN:DAYLIGHT
TZOFFSETFROM:-0600
TZOFFSETTO:-0500
TZNAME:CDT
DTSTART:20230312T080000
END:DAYLIGHT
BEGIN:STANDARD
TZOFFSETFROM:-0500
TZOFFSETTO:-0600
TZNAME:CST
DTSTART:20231105T070000
END:STANDARD
END:VTIMEZONE
BEGIN:VEVENT
DTSTART;TZID=America/Chicago:20220612T110000
DTEND;TZID=America/Chicago:20220612T120000
DTSTAMP:20260424T121546
CREATED:20210324T194256Z
LAST-MODIFIED:20210324T194256Z
UID:4297-1655031600-1655035200@trinitytx.org
SUMMARY:Worship Service - 2nd
DESCRIPTION:
URL:https://trinitytx.org/event/worship-service-2nd-2022-06-12/
LOCATION:Trinity Baptist Church\, 2830 W Ferguson Rd\, Mt Pleasant\, TX\, 75455\, United States
CATEGORIES:Church Events,Recurring Events
ATTACH;FMTTYPE=image/png:https://trinitytx.org/wp-content/uploads/2021/03/Welcome-to-Trinity-1920x1080-1.png
END:VEVENT
BEGIN:VEVENT
DTSTART;TZID=America/Chicago:20220612T093000
DTEND;TZID=America/Chicago:20220612T103000
DTSTAMP:20260424T121546
CREATED:20210324T193942Z
LAST-MODIFIED:20210324T193942Z
UID:4192-1655026200-1655029800@trinitytx.org
SUMMARY:Worship Service - 1st
DESCRIPTION:
URL:https://trinitytx.org/event/worship-service-1st-2022-06-12/
LOCATION:Trinity Baptist Church\, 2830 W Ferguson Rd\, Mt Pleasant\, TX\, 75455\, United States
CATEGORIES:Church Events,Recurring Events
ATTACH;FMTTYPE=image/png:https://trinitytx.org/wp-content/uploads/2021/03/Welcome-to-Trinity-1920x1080-1.png
END:VEVENT
BEGIN:VEVENT
DTSTART;TZID=America/Chicago:20220605T110000
DTEND;TZID=America/Chicago:20220605T120000
DTSTAMP:20260424T121546
CREATED:20210324T194256Z
LAST-MODIFIED:20210324T194256Z
UID:4296-1654426800-1654430400@trinitytx.org
SUMMARY:Worship Service - 2nd
DESCRIPTION:
URL:https://trinitytx.org/event/worship-service-2nd-2022-06-05/
LOCATION:Trinity Baptist Church\, 2830 W Ferguson Rd\, Mt Pleasant\, TX\, 75455\, United States
CATEGORIES:Church Events,Recurring Events
ATTACH;FMTTYPE=image/png:https://trinitytx.org/wp-content/uploads/2021/03/Welcome-to-Trinity-1920x1080-1.png
END:VEVENT
BEGIN:VEVENT
DTSTART;TZID=America/Chicago:20220605T093000
DTEND;TZID=America/Chicago:20220605T103000
DTSTAMP:20260424T121546
CREATED:20210324T193942Z
LAST-MODIFIED:20210324T193942Z
UID:4191-1654421400-1654425000@trinitytx.org
SUMMARY:Worship Service - 1st
DESCRIPTION:
URL:https://trinitytx.org/event/worship-service-1st-2022-06-05/
LOCATION:Trinity Baptist Church\, 2830 W Ferguson Rd\, Mt Pleasant\, TX\, 75455\, United States
CATEGORIES:Church Events,Recurring Events
ATTACH;FMTTYPE=image/png:https://trinitytx.org/wp-content/uploads/2021/03/Welcome-to-Trinity-1920x1080-1.png
END:VEVENT
BEGIN:VEVENT
DTSTART;TZID=America/Chicago:20220529T110000
DTEND;TZID=America/Chicago:20220529T120000
DTSTAMP:20260424T121546
CREATED:20210324T194256Z
LAST-MODIFIED:20210324T194256Z
UID:4295-1653822000-1653825600@trinitytx.org
SUMMARY:Worship Service - 2nd
DESCRIPTION:
URL:https://trinitytx.org/event/worship-service-2nd-2022-05-29/
LOCATION:Trinity Baptist Church\, 2830 W Ferguson Rd\, Mt Pleasant\, TX\, 75455\, United States
CATEGORIES:Church Events,Recurring Events
ATTACH;FMTTYPE=image/png:https://trinitytx.org/wp-content/uploads/2021/03/Welcome-to-Trinity-1920x1080-1.png
END:VEVENT
BEGIN:VEVENT
DTSTART;TZID=America/Chicago:20220529T093000
DTEND;TZID=America/Chicago:20220529T103000
DTSTAMP:20260424T121546
CREATED:20210324T193942Z
LAST-MODIFIED:20210324T193942Z
UID:4190-1653816600-1653820200@trinitytx.org
SUMMARY:Worship Service - 1st
DESCRIPTION:
URL:https://trinitytx.org/event/worship-service-1st-2022-05-29/
LOCATION:Trinity Baptist Church\, 2830 W Ferguson Rd\, Mt Pleasant\, TX\, 75455\, United States
CATEGORIES:Church Events,Recurring Events
ATTACH;FMTTYPE=image/png:https://trinitytx.org/wp-content/uploads/2021/03/Welcome-to-Trinity-1920x1080-1.png
END:VEVENT
BEGIN:VEVENT
DTSTART;TZID=America/Chicago:20220522T110000
DTEND;TZID=America/Chicago:20220522T120000
DTSTAMP:20260424T121546
CREATED:20210324T194256Z
LAST-MODIFIED:20210324T194256Z
UID:4294-1653217200-1653220800@trinitytx.org
SUMMARY:Worship Service - 2nd
DESCRIPTION:
URL:https://trinitytx.org/event/worship-service-2nd-2022-05-22/
LOCATION:Trinity Baptist Church\, 2830 W Ferguson Rd\, Mt Pleasant\, TX\, 75455\, United States
CATEGORIES:Church Events,Recurring Events
ATTACH;FMTTYPE=image/png:https://trinitytx.org/wp-content/uploads/2021/03/Welcome-to-Trinity-1920x1080-1.png
END:VEVENT
BEGIN:VEVENT
DTSTART;TZID=America/Chicago:20220522T093000
DTEND;TZID=America/Chicago:20220522T103000
DTSTAMP:20260424T121546
CREATED:20210324T193942Z
LAST-MODIFIED:20210324T193942Z
UID:4189-1653211800-1653215400@trinitytx.org
SUMMARY:Worship Service - 1st
DESCRIPTION:
URL:https://trinitytx.org/event/worship-service-1st-2022-05-22/
LOCATION:Trinity Baptist Church\, 2830 W Ferguson Rd\, Mt Pleasant\, TX\, 75455\, United States
CATEGORIES:Church Events,Recurring Events
ATTACH;FMTTYPE=image/png:https://trinitytx.org/wp-content/uploads/2021/03/Welcome-to-Trinity-1920x1080-1.png
END:VEVENT
BEGIN:VEVENT
DTSTART;TZID=America/Chicago:20220515T110000
DTEND;TZID=America/Chicago:20220515T120000
DTSTAMP:20260424T121546
CREATED:20210324T194256Z
LAST-MODIFIED:20210324T194256Z
UID:4293-1652612400-1652616000@trinitytx.org
SUMMARY:Worship Service - 2nd
DESCRIPTION:
URL:https://trinitytx.org/event/worship-service-2nd-2022-05-15/
LOCATION:Trinity Baptist Church\, 2830 W Ferguson Rd\, Mt Pleasant\, TX\, 75455\, United States
CATEGORIES:Church Events,Recurring Events
ATTACH;FMTTYPE=image/png:https://trinitytx.org/wp-content/uploads/2021/03/Welcome-to-Trinity-1920x1080-1.png
END:VEVENT
BEGIN:VEVENT
DTSTART;TZID=America/Chicago:20220515T093000
DTEND;TZID=America/Chicago:20220515T103000
DTSTAMP:20260424T121546
CREATED:20210324T193942Z
LAST-MODIFIED:20210324T193942Z
UID:4188-1652607000-1652610600@trinitytx.org
SUMMARY:Worship Service - 1st
DESCRIPTION:
URL:https://trinitytx.org/event/worship-service-1st-2022-05-15/
LOCATION:Trinity Baptist Church\, 2830 W Ferguson Rd\, Mt Pleasant\, TX\, 75455\, United States
CATEGORIES:Church Events,Recurring Events
ATTACH;FMTTYPE=image/png:https://trinitytx.org/wp-content/uploads/2021/03/Welcome-to-Trinity-1920x1080-1.png
END:VEVENT
BEGIN:VEVENT
DTSTART;TZID=America/Chicago:20220508T110000
DTEND;TZID=America/Chicago:20220508T120000
DTSTAMP:20260424T121546
CREATED:20210324T194256Z
LAST-MODIFIED:20210324T194256Z
UID:4292-1652007600-1652011200@trinitytx.org
SUMMARY:Worship Service - 2nd
DESCRIPTION:
URL:https://trinitytx.org/event/worship-service-2nd-2022-05-08/
LOCATION:Trinity Baptist Church\, 2830 W Ferguson Rd\, Mt Pleasant\, TX\, 75455\, United States
CATEGORIES:Church Events,Recurring Events
ATTACH;FMTTYPE=image/png:https://trinitytx.org/wp-content/uploads/2021/03/Welcome-to-Trinity-1920x1080-1.png
END:VEVENT
BEGIN:VEVENT
DTSTART;TZID=America/Chicago:20220508T093000
DTEND;TZID=America/Chicago:20220508T103000
DTSTAMP:20260424T121546
CREATED:20210324T193942Z
LAST-MODIFIED:20210324T193942Z
UID:4187-1652002200-1652005800@trinitytx.org
SUMMARY:Worship Service - 1st
DESCRIPTION:
URL:https://trinitytx.org/event/worship-service-1st-2022-05-08/
LOCATION:Trinity Baptist Church\, 2830 W Ferguson Rd\, Mt Pleasant\, TX\, 75455\, United States
CATEGORIES:Church Events,Recurring Events
ATTACH;FMTTYPE=image/png:https://trinitytx.org/wp-content/uploads/2021/03/Welcome-to-Trinity-1920x1080-1.png
END:VEVENT
BEGIN:VEVENT
DTSTART;TZID=America/Chicago:20220501T110000
DTEND;TZID=America/Chicago:20220501T120000
DTSTAMP:20260424T121546
CREATED:20210324T194256Z
LAST-MODIFIED:20210324T194256Z
UID:4291-1651402800-1651406400@trinitytx.org
SUMMARY:Worship Service - 2nd
DESCRIPTION:
URL:https://trinitytx.org/event/worship-service-2nd-2022-05-01/
LOCATION:Trinity Baptist Church\, 2830 W Ferguson Rd\, Mt Pleasant\, TX\, 75455\, United States
CATEGORIES:Church Events,Recurring Events
ATTACH;FMTTYPE=image/png:https://trinitytx.org/wp-content/uploads/2021/03/Welcome-to-Trinity-1920x1080-1.png
END:VEVENT
BEGIN:VEVENT
DTSTART;TZID=America/Chicago:20220501T093000
DTEND;TZID=America/Chicago:20220501T103000
DTSTAMP:20260424T121546
CREATED:20210324T193942Z
LAST-MODIFIED:20210324T193942Z
UID:4186-1651397400-1651401000@trinitytx.org
SUMMARY:Worship Service - 1st
DESCRIPTION:
URL:https://trinitytx.org/event/worship-service-1st-2022-05-01/
LOCATION:Trinity Baptist Church\, 2830 W Ferguson Rd\, Mt Pleasant\, TX\, 75455\, United States
CATEGORIES:Church Events,Recurring Events
ATTACH;FMTTYPE=image/png:https://trinitytx.org/wp-content/uploads/2021/03/Welcome-to-Trinity-1920x1080-1.png
END:VEVENT
BEGIN:VEVENT
DTSTART;TZID=America/Chicago:20220424T110000
DTEND;TZID=America/Chicago:20220424T120000
DTSTAMP:20260424T121546
CREATED:20210324T194256Z
LAST-MODIFIED:20210324T194256Z
UID:4290-1650798000-1650801600@trinitytx.org
SUMMARY:Worship Service - 2nd
DESCRIPTION:
URL:https://trinitytx.org/event/worship-service-2nd-2022-04-24/
LOCATION:Trinity Baptist Church\, 2830 W Ferguson Rd\, Mt Pleasant\, TX\, 75455\, United States
CATEGORIES:Church Events,Recurring Events
ATTACH;FMTTYPE=image/png:https://trinitytx.org/wp-content/uploads/2021/03/Welcome-to-Trinity-1920x1080-1.png
END:VEVENT
BEGIN:VEVENT
DTSTART;TZID=America/Chicago:20220424T093000
DTEND;TZID=America/Chicago:20220424T103000
DTSTAMP:20260424T121546
CREATED:20210324T193942Z
LAST-MODIFIED:20210324T193942Z
UID:4185-1650792600-1650796200@trinitytx.org
SUMMARY:Worship Service - 1st
DESCRIPTION:
URL:https://trinitytx.org/event/worship-service-1st-2022-04-24/
LOCATION:Trinity Baptist Church\, 2830 W Ferguson Rd\, Mt Pleasant\, TX\, 75455\, United States
CATEGORIES:Church Events,Recurring Events
ATTACH;FMTTYPE=image/png:https://trinitytx.org/wp-content/uploads/2021/03/Welcome-to-Trinity-1920x1080-1.png
END:VEVENT
BEGIN:VEVENT
DTSTART;TZID=America/Chicago:20220417T110000
DTEND;TZID=America/Chicago:20220417T120000
DTSTAMP:20260424T121546
CREATED:20210324T194256Z
LAST-MODIFIED:20210324T194256Z
UID:4289-1650193200-1650196800@trinitytx.org
SUMMARY:Worship Service - 2nd
DESCRIPTION:
URL:https://trinitytx.org/event/worship-service-2nd-2022-04-17/
LOCATION:Trinity Baptist Church\, 2830 W Ferguson Rd\, Mt Pleasant\, TX\, 75455\, United States
CATEGORIES:Church Events,Recurring Events
ATTACH;FMTTYPE=image/png:https://trinitytx.org/wp-content/uploads/2021/03/Welcome-to-Trinity-1920x1080-1.png
END:VEVENT
BEGIN:VEVENT
DTSTART;TZID=America/Chicago:20220417T093000
DTEND;TZID=America/Chicago:20220417T103000
DTSTAMP:20260424T121546
CREATED:20210324T193942Z
LAST-MODIFIED:20210324T193942Z
UID:4184-1650187800-1650191400@trinitytx.org
SUMMARY:Worship Service - 1st
DESCRIPTION:
URL:https://trinitytx.org/event/worship-service-1st-2022-04-17/
LOCATION:Trinity Baptist Church\, 2830 W Ferguson Rd\, Mt Pleasant\, TX\, 75455\, United States
CATEGORIES:Church Events,Recurring Events
ATTACH;FMTTYPE=image/png:https://trinitytx.org/wp-content/uploads/2021/03/Welcome-to-Trinity-1920x1080-1.png
END:VEVENT
BEGIN:VEVENT
DTSTART;TZID=America/Chicago:20220410T110000
DTEND;TZID=America/Chicago:20220410T120000
DTSTAMP:20260424T121546
CREATED:20210324T194256Z
LAST-MODIFIED:20210324T194256Z
UID:4288-1649588400-1649592000@trinitytx.org
SUMMARY:Worship Service - 2nd
DESCRIPTION:
URL:https://trinitytx.org/event/worship-service-2nd-2022-04-10/
LOCATION:Trinity Baptist Church\, 2830 W Ferguson Rd\, Mt Pleasant\, TX\, 75455\, United States
CATEGORIES:Church Events,Recurring Events
ATTACH;FMTTYPE=image/png:https://trinitytx.org/wp-content/uploads/2021/03/Welcome-to-Trinity-1920x1080-1.png
END:VEVENT
BEGIN:VEVENT
DTSTART;TZID=America/Chicago:20220410T093000
DTEND;TZID=America/Chicago:20220410T103000
DTSTAMP:20260424T121546
CREATED:20210324T193942Z
LAST-MODIFIED:20210324T193942Z
UID:4183-1649583000-1649586600@trinitytx.org
SUMMARY:Worship Service - 1st
DESCRIPTION:
URL:https://trinitytx.org/event/worship-service-1st-2022-04-10/
LOCATION:Trinity Baptist Church\, 2830 W Ferguson Rd\, Mt Pleasant\, TX\, 75455\, United States
CATEGORIES:Church Events,Recurring Events
ATTACH;FMTTYPE=image/png:https://trinitytx.org/wp-content/uploads/2021/03/Welcome-to-Trinity-1920x1080-1.png
END:VEVENT
BEGIN:VEVENT
DTSTART;TZID=America/Chicago:20220403T110000
DTEND;TZID=America/Chicago:20220403T120000
DTSTAMP:20260424T121546
CREATED:20210324T194256Z
LAST-MODIFIED:20210324T194256Z
UID:4287-1648983600-1648987200@trinitytx.org
SUMMARY:Worship Service - 2nd
DESCRIPTION:
URL:https://trinitytx.org/event/worship-service-2nd-2022-04-03/
LOCATION:Trinity Baptist Church\, 2830 W Ferguson Rd\, Mt Pleasant\, TX\, 75455\, United States
CATEGORIES:Church Events,Recurring Events
ATTACH;FMTTYPE=image/png:https://trinitytx.org/wp-content/uploads/2021/03/Welcome-to-Trinity-1920x1080-1.png
END:VEVENT
BEGIN:VEVENT
DTSTART;TZID=America/Chicago:20220403T093000
DTEND;TZID=America/Chicago:20220403T103000
DTSTAMP:20260424T121546
CREATED:20210324T193942Z
LAST-MODIFIED:20210324T193942Z
UID:4182-1648978200-1648981800@trinitytx.org
SUMMARY:Worship Service - 1st
DESCRIPTION:
URL:https://trinitytx.org/event/worship-service-1st-2022-04-03/
LOCATION:Trinity Baptist Church\, 2830 W Ferguson Rd\, Mt Pleasant\, TX\, 75455\, United States
CATEGORIES:Church Events,Recurring Events
ATTACH;FMTTYPE=image/png:https://trinitytx.org/wp-content/uploads/2021/03/Welcome-to-Trinity-1920x1080-1.png
END:VEVENT
BEGIN:VEVENT
DTSTART;TZID=America/Chicago:20220327T110000
DTEND;TZID=America/Chicago:20220327T120000
DTSTAMP:20260424T121546
CREATED:20210324T194256Z
LAST-MODIFIED:20210324T194256Z
UID:4286-1648378800-1648382400@trinitytx.org
SUMMARY:Worship Service - 2nd
DESCRIPTION:
URL:https://trinitytx.org/event/worship-service-2nd-2022-03-27/
LOCATION:Trinity Baptist Church\, 2830 W Ferguson Rd\, Mt Pleasant\, TX\, 75455\, United States
CATEGORIES:Church Events,Recurring Events
ATTACH;FMTTYPE=image/png:https://trinitytx.org/wp-content/uploads/2021/03/Welcome-to-Trinity-1920x1080-1.png
END:VEVENT
BEGIN:VEVENT
DTSTART;TZID=America/Chicago:20220327T093000
DTEND;TZID=America/Chicago:20220327T103000
DTSTAMP:20260424T121546
CREATED:20210324T193942Z
LAST-MODIFIED:20210324T193942Z
UID:4181-1648373400-1648377000@trinitytx.org
SUMMARY:Worship Service - 1st
DESCRIPTION:
URL:https://trinitytx.org/event/worship-service-1st-2022-03-27/
LOCATION:Trinity Baptist Church\, 2830 W Ferguson Rd\, Mt Pleasant\, TX\, 75455\, United States
CATEGORIES:Church Events,Recurring Events
ATTACH;FMTTYPE=image/png:https://trinitytx.org/wp-content/uploads/2021/03/Welcome-to-Trinity-1920x1080-1.png
END:VEVENT
BEGIN:VEVENT
DTSTART;TZID=America/Chicago:20220320T110000
DTEND;TZID=America/Chicago:20220320T120000
DTSTAMP:20260424T121546
CREATED:20210324T194256Z
LAST-MODIFIED:20210324T194256Z
UID:4285-1647774000-1647777600@trinitytx.org
SUMMARY:Worship Service - 2nd
DESCRIPTION:
URL:https://trinitytx.org/event/worship-service-2nd-2022-03-20/
LOCATION:Trinity Baptist Church\, 2830 W Ferguson Rd\, Mt Pleasant\, TX\, 75455\, United States
CATEGORIES:Church Events,Recurring Events
ATTACH;FMTTYPE=image/png:https://trinitytx.org/wp-content/uploads/2021/03/Welcome-to-Trinity-1920x1080-1.png
END:VEVENT
BEGIN:VEVENT
DTSTART;TZID=America/Chicago:20220320T093000
DTEND;TZID=America/Chicago:20220320T103000
DTSTAMP:20260424T121546
CREATED:20210324T193942Z
LAST-MODIFIED:20210324T193942Z
UID:4180-1647768600-1647772200@trinitytx.org
SUMMARY:Worship Service - 1st
DESCRIPTION:
URL:https://trinitytx.org/event/worship-service-1st-2022-03-20/
LOCATION:Trinity Baptist Church\, 2830 W Ferguson Rd\, Mt Pleasant\, TX\, 75455\, United States
CATEGORIES:Church Events,Recurring Events
ATTACH;FMTTYPE=image/png:https://trinitytx.org/wp-content/uploads/2021/03/Welcome-to-Trinity-1920x1080-1.png
END:VEVENT
BEGIN:VEVENT
DTSTART;TZID=America/Chicago:20220313T110000
DTEND;TZID=America/Chicago:20220313T120000
DTSTAMP:20260424T121546
CREATED:20210324T194256Z
LAST-MODIFIED:20210324T194256Z
UID:4284-1647169200-1647172800@trinitytx.org
SUMMARY:Worship Service - 2nd
DESCRIPTION:
URL:https://trinitytx.org/event/worship-service-2nd-2022-03-13/
LOCATION:Trinity Baptist Church\, 2830 W Ferguson Rd\, Mt Pleasant\, TX\, 75455\, United States
CATEGORIES:Church Events,Recurring Events
ATTACH;FMTTYPE=image/png:https://trinitytx.org/wp-content/uploads/2021/03/Welcome-to-Trinity-1920x1080-1.png
END:VEVENT
BEGIN:VEVENT
DTSTART;TZID=America/Chicago:20220313T093000
DTEND;TZID=America/Chicago:20220313T103000
DTSTAMP:20260424T121546
CREATED:20210324T193942Z
LAST-MODIFIED:20210324T193942Z
UID:4179-1647163800-1647167400@trinitytx.org
SUMMARY:Worship Service - 1st
DESCRIPTION:
URL:https://trinitytx.org/event/worship-service-1st-2022-03-13/
LOCATION:Trinity Baptist Church\, 2830 W Ferguson Rd\, Mt Pleasant\, TX\, 75455\, United States
CATEGORIES:Church Events,Recurring Events
ATTACH;FMTTYPE=image/png:https://trinitytx.org/wp-content/uploads/2021/03/Welcome-to-Trinity-1920x1080-1.png
END:VEVENT
BEGIN:VEVENT
DTSTART;TZID=America/Chicago:20220306T110000
DTEND;TZID=America/Chicago:20220306T120000
DTSTAMP:20260424T121546
CREATED:20210324T194256Z
LAST-MODIFIED:20210324T194256Z
UID:4283-1646564400-1646568000@trinitytx.org
SUMMARY:Worship Service - 2nd
DESCRIPTION:
URL:https://trinitytx.org/event/worship-service-2nd-2022-03-06/
LOCATION:Trinity Baptist Church\, 2830 W Ferguson Rd\, Mt Pleasant\, TX\, 75455\, United States
CATEGORIES:Church Events,Recurring Events
ATTACH;FMTTYPE=image/png:https://trinitytx.org/wp-content/uploads/2021/03/Welcome-to-Trinity-1920x1080-1.png
END:VEVENT
BEGIN:VEVENT
DTSTART;TZID=America/Chicago:20220306T093000
DTEND;TZID=America/Chicago:20220306T103000
DTSTAMP:20260424T121546
CREATED:20210324T193942Z
LAST-MODIFIED:20210324T193942Z
UID:4178-1646559000-1646562600@trinitytx.org
SUMMARY:Worship Service - 1st
DESCRIPTION:
URL:https://trinitytx.org/event/worship-service-1st-2022-03-06/
LOCATION:Trinity Baptist Church\, 2830 W Ferguson Rd\, Mt Pleasant\, TX\, 75455\, United States
CATEGORIES:Church Events,Recurring Events
ATTACH;FMTTYPE=image/png:https://trinitytx.org/wp-content/uploads/2021/03/Welcome-to-Trinity-1920x1080-1.png
END:VEVENT
END:VCALENDAR