BEGIN:VCALENDAR
VERSION:2.0
PRODID:-//Trinity Baptist Church - ECPv6.15.20//NONSGML v1.0//EN
CALSCALE:GREGORIAN
METHOD:PUBLISH
X-WR-CALNAME:Trinity Baptist Church
X-ORIGINAL-URL:https://trinitytx.org
X-WR-CALDESC:Events for Trinity Baptist Church
REFRESH-INTERVAL;VALUE=DURATION:PT1H
X-Robots-Tag:noindex
X-PUBLISHED-TTL:PT1H
BEGIN:VTIMEZONE
TZID:America/Chicago
BEGIN:DAYLIGHT
TZOFFSETFROM:-0600
TZOFFSETTO:-0500
TZNAME:CDT
DTSTART:20180311T080000
END:DAYLIGHT
BEGIN:STANDARD
TZOFFSETFROM:-0500
TZOFFSETTO:-0600
TZNAME:CST
DTSTART:20181104T070000
END:STANDARD
BEGIN:DAYLIGHT
TZOFFSETFROM:-0600
TZOFFSETTO:-0500
TZNAME:CDT
DTSTART:20190310T080000
END:DAYLIGHT
BEGIN:STANDARD
TZOFFSETFROM:-0500
TZOFFSETTO:-0600
TZNAME:CST
DTSTART:20191103T070000
END:STANDARD
BEGIN:DAYLIGHT
TZOFFSETFROM:-0600
TZOFFSETTO:-0500
TZNAME:CDT
DTSTART:20200308T080000
END:DAYLIGHT
BEGIN:STANDARD
TZOFFSETFROM:-0500
TZOFFSETTO:-0600
TZNAME:CST
DTSTART:20201101T070000
END:STANDARD
END:VTIMEZONE
BEGIN:VEVENT
DTSTART;VALUE=DATE:20190723
DTEND;VALUE=DATE:20190727
DTSTAMP:20260423T071657
CREATED:20190508T151107Z
LAST-MODIFIED:20190528T161821Z
UID:1857-1563840000-1564185599@trinitytx.org
SUMMARY:Accelerate Kidz Kamp
DESCRIPTION:Purley Gates Retreat in Purley\, TX \n1st-4th Graders is July 24th – 26th – $130 \n5th-6th Graders is July 23rd-26th – $185 \n$50 deposit \nCost will increase $15 after June 16th. \n**Sign-up deadline July 7th** \nRegistration Form\nWAIVERS
URL:https://trinitytx.org/event/accelerate-kidz-kamp/
LOCATION:Purley Gates Retreat\, 1351 FM 900 E\, Mt Vernon\, TX\, 75457\, United States
CATEGORIES:Church Events,Community Events
ATTACH;FMTTYPE=image/jpeg:https://trinitytx.org/wp-content/uploads/2019/05/Accelerate-Kidz-Camp.jpg
END:VEVENT
BEGIN:VEVENT
DTSTART;TZID=America/Chicago:20190623T170000
DTEND;TZID=America/Chicago:20190623T180000
DTSTAMP:20260423T071657
CREATED:20190523T192525Z
LAST-MODIFIED:20190523T192525Z
UID:1899-1561309200-1561312800@trinitytx.org
SUMMARY:New Members Workshop
DESCRIPTION:
URL:https://trinitytx.org/event/new-members-workshop/
LOCATION:Trinity Baptist Church\, 2830 W Ferguson Rd\, Mt Pleasant\, TX\, 75455\, United States
CATEGORIES:Church Events,Community Events
ATTACH;FMTTYPE=image/jpeg:https://trinitytx.org/wp-content/uploads/2019/05/membership_class-PSD-copy.jpg
END:VEVENT
BEGIN:VEVENT
DTSTART;VALUE=DATE:20190617
DTEND;VALUE=DATE:20190622
DTSTAMP:20260423T071657
CREATED:20190603T212821Z
LAST-MODIFIED:20190603T212821Z
UID:1958-1560729600-1561161599@trinitytx.org
SUMMARY:Impact Youth Camp
DESCRIPTION:When: June 17 – June 21 \nWhere: TX Baptist Encampment\, Palacios\, TX \nWho: 7-12 Grade Students \nHow: $300
URL:https://trinitytx.org/event/impact-youth-camp/
LOCATION:Palacious Baptist Encampment\, 100 1st st\, palacious\, TX\, 77465\, United States
CATEGORIES:Church Events,Community Events
ATTACH;FMTTYPE=image/png:https://trinitytx.org/wp-content/uploads/2019/06/Impact-Camp-2019.png
END:VEVENT
BEGIN:VEVENT
DTSTART;TZID=America/Chicago:20190603T180000
DTEND;TZID=America/Chicago:20190606T203000
DTSTAMP:20260423T071657
CREATED:20190508T160753Z
LAST-MODIFIED:20190528T144241Z
UID:1863-1559584800-1559853000@trinitytx.org
SUMMARY:Fun Camp
DESCRIPTION:Come join us at Fun Camp for completed grades 1st – 6th Grades on June 3rd-6th \nRegistration Forms Below \nRegistration Forms
URL:https://trinitytx.org/event/fun-camp/
LOCATION:Dellwood Park\, 726 E Ferguson Rd\, Mt Pleasant\, TX\, 75455\, United States
CATEGORIES:Church Events,Community Events
ATTACH;FMTTYPE=image/png:https://trinitytx.org/wp-content/uploads/2019/05/FUN-CAMP-BANNER-2019.png
END:VEVENT
BEGIN:VEVENT
DTSTART;TZID=America/Chicago:20190519T173000
DTEND;TZID=America/Chicago:20190519T190000
DTSTAMP:20260423T071657
CREATED:20190508T150356Z
LAST-MODIFIED:20190508T150356Z
UID:1854-1558287000-1558292400@trinitytx.org
SUMMARY:Cake Auction and Church Picnic
DESCRIPTION:Bring a covered dish & cake \nWater slides for the kids
URL:https://trinitytx.org/event/cake-auction-and-church-picnic/
LOCATION:Trinity Baptist Church\, 2830 W Ferguson Rd\, Mt Pleasant\, TX\, 75455\, United States
CATEGORIES:Church Events,Community Events
ATTACH;FMTTYPE=image/jpeg:https://trinitytx.org/wp-content/uploads/2019/05/CakeAuctionandChurchPicnic.jpg
END:VEVENT
BEGIN:VEVENT
DTSTART;TZID=America/Chicago:20190519T110000
DTEND;TZID=America/Chicago:20190519T120000
DTSTAMP:20260423T071657
CREATED:20190508T160955Z
LAST-MODIFIED:20190508T160955Z
UID:1866-1558263600-1558267200@trinitytx.org
SUMMARY:Graduate Recognition 2019
DESCRIPTION:Come help us recognize our High School Graduates 2019 on Sunday May 19th during our service.
URL:https://trinitytx.org/event/graduate-recognition-2019/
LOCATION:Trinity Baptist Church\, 2830 W Ferguson Rd\, Mt Pleasant\, TX\, 75455\, United States
CATEGORIES:Church Events,Community Events
ATTACH;FMTTYPE=image/jpeg:https://trinitytx.org/wp-content/uploads/2019/05/Graduate-Recognition.jpg
END:VEVENT
BEGIN:VEVENT
DTSTART;TZID=America/Chicago:20190508T080000
DTEND;TZID=America/Chicago:20190508T170000
DTSTAMP:20260423T071657
CREATED:20190508T161228Z
LAST-MODIFIED:20190508T161228Z
UID:1869-1557302400-1557334800@trinitytx.org
SUMMARY:League of Dreams
DESCRIPTION:
URL:https://trinitytx.org/event/league-of-dreams/
LOCATION:Edwards Park\, Edwards Park\, Mt Pleasant\, TX\, 75455\, United States
CATEGORIES:Church Events,Community Events
ATTACH;FMTTYPE=image/jpeg:https://trinitytx.org/wp-content/uploads/2019/05/League-of-Dreams.jpg
END:VEVENT
BEGIN:VEVENT
DTSTART;TZID=America/Chicago:20190503T170000
DTEND;TZID=America/Chicago:20190505T120000
DTSTAMP:20260423T071657
CREATED:20190313T182358Z
LAST-MODIFIED:20190403T224633Z
UID:1696-1556902800-1557057600@trinitytx.org
SUMMARY:Merge Weekend
DESCRIPTION:For 5th and 6th grade students. \nRegister Now
URL:https://trinitytx.org/event/merge-weekend/
LOCATION:Trinity Baptist Church\, 2830 W Ferguson Rd\, Mt Pleasant\, TX\, 75455\, United States
CATEGORIES:Church Events,Community Events
ATTACH;FMTTYPE=image/jpeg:https://trinitytx.org/wp-content/uploads/2019/03/MergeWeekend.jpg
END:VEVENT
BEGIN:VEVENT
DTSTART;TZID=America/Chicago:20190420T080000
DTEND;TZID=America/Chicago:20190420T110000
DTSTAMP:20260423T071657
CREATED:20190309T152141Z
LAST-MODIFIED:20190309T152141Z
UID:1674-1555747200-1555758000@trinitytx.org
SUMMARY:Move Your Keister on Easter - 5K
DESCRIPTION:Move Your Keister on Easter – 5K 2019\nAt Dellwood Park \nSaturday April 20th\n8:00AM – 11:00AM \nSignup on Facebook
URL:https://trinitytx.org/event/move-your-keister-on-easter-5k/
LOCATION:Dellwood Park\, 726 E Ferguson Rd\, Mt Pleasant\, TX\, 75455\, United States
CATEGORIES:Community Events
END:VEVENT
END:VCALENDAR