BEGIN:VCALENDAR
VERSION:2.0
PRODID:-//Trinity Baptist Church - ECPv6.15.20//NONSGML v1.0//EN
CALSCALE:GREGORIAN
METHOD:PUBLISH
X-WR-CALNAME:Trinity Baptist Church
X-ORIGINAL-URL:https://trinitytx.org
X-WR-CALDESC:Events for Trinity Baptist Church
REFRESH-INTERVAL;VALUE=DURATION:PT1H
X-Robots-Tag:noindex
X-PUBLISHED-TTL:PT1H
BEGIN:VTIMEZONE
TZID:America/Chicago
BEGIN:DAYLIGHT
TZOFFSETFROM:-0600
TZOFFSETTO:-0500
TZNAME:CDT
DTSTART:20180311T080000
END:DAYLIGHT
BEGIN:STANDARD
TZOFFSETFROM:-0500
TZOFFSETTO:-0600
TZNAME:CST
DTSTART:20181104T070000
END:STANDARD
BEGIN:DAYLIGHT
TZOFFSETFROM:-0600
TZOFFSETTO:-0500
TZNAME:CDT
DTSTART:20190310T080000
END:DAYLIGHT
BEGIN:STANDARD
TZOFFSETFROM:-0500
TZOFFSETTO:-0600
TZNAME:CST
DTSTART:20191103T070000
END:STANDARD
BEGIN:DAYLIGHT
TZOFFSETFROM:-0600
TZOFFSETTO:-0500
TZNAME:CDT
DTSTART:20200308T080000
END:DAYLIGHT
BEGIN:STANDARD
TZOFFSETFROM:-0500
TZOFFSETTO:-0600
TZNAME:CST
DTSTART:20201101T070000
END:STANDARD
BEGIN:DAYLIGHT
TZOFFSETFROM:-0600
TZOFFSETTO:-0500
TZNAME:CDT
DTSTART:20210314T080000
END:DAYLIGHT
BEGIN:STANDARD
TZOFFSETFROM:-0500
TZOFFSETTO:-0600
TZNAME:CST
DTSTART:20211107T070000
END:STANDARD
BEGIN:DAYLIGHT
TZOFFSETFROM:-0600
TZOFFSETTO:-0500
TZNAME:CDT
DTSTART:20220313T080000
END:DAYLIGHT
BEGIN:STANDARD
TZOFFSETFROM:-0500
TZOFFSETTO:-0600
TZNAME:CST
DTSTART:20221106T070000
END:STANDARD
END:VTIMEZONE
BEGIN:VEVENT
DTSTART;TZID=America/Chicago:20210403T170000
DTEND;TZID=America/Chicago:20210403T180000
DTSTAMP:20260423T035230
CREATED:20210324T163341Z
LAST-MODIFIED:20210324T163341Z
UID:4122-1617469200-1617472800@trinitytx.org
SUMMARY:Easter
DESCRIPTION:Easter at Trinity\nWe are doing things a bit differently this year. We will have one service on Saturday April 3rd at 5:00pm as well as our normal service times on Sunday the 4th at 9:30am as well as 11:00am. Sunday’s Bible Studies are also cancelled for Sunday. It’s going to be an amazing service! We can’t wait for you to be here.
URL:https://trinitytx.org/event/easter-2/
LOCATION:Trinity Baptist Church\, 2830 W Ferguson Rd\, Mt Pleasant\, TX\, 75455\, United States
CATEGORIES:Church Events,Community Events
ATTACH;FMTTYPE=image/png:https://trinitytx.org/wp-content/uploads/2020/02/Easter.png
END:VEVENT
BEGIN:VEVENT
DTSTART;TZID=America/Chicago:20210328T120000
DTEND;TZID=America/Chicago:20210328T123000
DTSTAMP:20260423T035230
CREATED:20210220T193918Z
LAST-MODIFIED:20210220T193918Z
UID:4065-1616932800-1616934600@trinitytx.org
SUMMARY:Texas Graig's BBQ
DESCRIPTION:Texas Craig’s BBQ Fundraiser\nfor TKIDZ and T56 \nJust $7 per plate\nMarch 28th \nCarry-Out after Worship\nPickup before 12:30pm \nPurchase tickets from kids\, or in the foyer \nIncludes Sandwich\, Chips\, and a Brownie or Cookie
URL:https://trinitytx.org/event/texas-graigs-bbq/
LOCATION:Trinity Baptist Church\, 2830 W Ferguson Rd\, Mt Pleasant\, TX\, 75455\, United States
CATEGORIES:Church Events,Community Events
ATTACH;FMTTYPE=image/jpeg:https://trinitytx.org/wp-content/uploads/2021/02/Texas-BBQ.jpg
END:VEVENT
BEGIN:VEVENT
DTSTART;TZID=America/Chicago:20210305T180000
DTEND;TZID=America/Chicago:20210307T120000
DTSTAMP:20260423T035230
CREATED:20210301T022819Z
LAST-MODIFIED:20210301T022819Z
UID:4080-1614967200-1615118400@trinitytx.org
SUMMARY:DNOW 2021- The Uprising
DESCRIPTION:Trinity Student Ministry\nWorship Leader: Jared Wood\nSpeaker: DJ Harris \nMarch 5-7\nJust $65
URL:https://trinitytx.org/event/dnow-2021-the-uprising/
LOCATION:Trinity Baptist Church\, 2830 W Ferguson Rd\, Mt Pleasant\, TX\, 75455\, United States
CATEGORIES:Church Events,Community Events
ATTACH;FMTTYPE=image/png:https://trinitytx.org/wp-content/uploads/2021/02/DNOW-2021-1.png
ORGANIZER;CN="Carlos Martinez":MAILTO:jcmartinez@trinitytx.org
END:VEVENT
BEGIN:VEVENT
DTSTART;TZID=America/Chicago:20210228T120000
DTEND;TZID=America/Chicago:20210228T130000
DTSTAMP:20260423T035230
CREATED:20210220T193531Z
LAST-MODIFIED:20210220T193531Z
UID:4061-1614513600-1614517200@trinitytx.org
SUMMARY:Taco Dinner Fundraiser
DESCRIPTION:Taco Dinner!!!\nFundraiser for TKIDZ and T56 \nJust $7 per plate with 5 Tacos per plate\nSunday\, February 28th \nCarry-Out After Worship Service \nPurchase Tickets from Kids or Dawna Land
URL:https://trinitytx.org/event/taco-dinner-fundraiser/
LOCATION:Trinity Baptist Church\, 2830 W Ferguson Rd\, Mt Pleasant\, TX\, 75455\, United States
CATEGORIES:Church Events,Community Events
ATTACH;FMTTYPE=image/jpeg:https://trinitytx.org/wp-content/uploads/2021/02/Taco-Dinner-2-28.jpg
END:VEVENT
BEGIN:VEVENT
DTSTART;TZID=America/Chicago:20201031T140000
DTEND;TZID=America/Chicago:20201031T160000
DTSTAMP:20260423T035230
CREATED:20200930T203546Z
LAST-MODIFIED:20200930T204422Z
UID:3450-1604152800-1604160000@trinitytx.org
SUMMARY:Festibration 2020
DESCRIPTION:Come join us for Festibration on Halloween!
URL:https://trinitytx.org/event/festibration-2020/
LOCATION:Trinity Baptist Church\, 2830 W Ferguson Rd\, Mt Pleasant\, TX\, 75455\, United States
CATEGORIES:Church Events,Community Events
ATTACH;FMTTYPE=image/jpeg:https://trinitytx.org/wp-content/uploads/2020/09/Festibration-Drive-Thru-Screen-2020.jpg
END:VEVENT
BEGIN:VEVENT
DTSTART;TZID=America/Chicago:20200730T190000
DTEND;TZID=America/Chicago:20200730T210000
DTSTAMP:20260423T035230
CREATED:20200617T215440Z
LAST-MODIFIED:20200715T160554Z
UID:3233-1596135600-1596142800@trinitytx.org
SUMMARY:Outback - Fun Camp!
DESCRIPTION:1st – 6th Grades \nJuly 27th – 30th\n7:00 PM – 9:00 PM \nIn Trinity’s Backyard
URL:https://trinitytx.org/event/outback-fun-camp-2020-07-30/
LOCATION:Trinity Baptist Church\, 2830 W Ferguson Rd\, Mt Pleasant\, TX\, 75455\, United States
CATEGORIES:Church Events,Community Events
ATTACH;FMTTYPE=image/jpeg:https://trinitytx.org/wp-content/uploads/2020/06/medium_image-1594220434113.jpg
END:VEVENT
BEGIN:VEVENT
DTSTART;TZID=America/Chicago:20200729T190000
DTEND;TZID=America/Chicago:20200729T210000
DTSTAMP:20260423T035230
CREATED:20200617T215440Z
LAST-MODIFIED:20200715T160553Z
UID:3232-1596049200-1596056400@trinitytx.org
SUMMARY:Outback - Fun Camp!
DESCRIPTION:1st – 6th Grades \nJuly 27th – 30th\n7:00 PM – 9:00 PM \nIn Trinity’s Backyard
URL:https://trinitytx.org/event/outback-fun-camp-2020-07-29/
LOCATION:Trinity Baptist Church\, 2830 W Ferguson Rd\, Mt Pleasant\, TX\, 75455\, United States
CATEGORIES:Church Events,Community Events
ATTACH;FMTTYPE=image/jpeg:https://trinitytx.org/wp-content/uploads/2020/06/medium_image-1594220434113.jpg
END:VEVENT
BEGIN:VEVENT
DTSTART;TZID=America/Chicago:20200728T190000
DTEND;TZID=America/Chicago:20200728T210000
DTSTAMP:20260423T035230
CREATED:20200617T215440Z
LAST-MODIFIED:20200715T160553Z
UID:3231-1595962800-1595970000@trinitytx.org
SUMMARY:Outback - Fun Camp!
DESCRIPTION:1st – 6th Grades \nJuly 27th – 30th\n7:00 PM – 9:00 PM \nIn Trinity’s Backyard
URL:https://trinitytx.org/event/outback-fun-camp-2020-07-28/
LOCATION:Trinity Baptist Church\, 2830 W Ferguson Rd\, Mt Pleasant\, TX\, 75455\, United States
CATEGORIES:Church Events,Community Events
ATTACH;FMTTYPE=image/jpeg:https://trinitytx.org/wp-content/uploads/2020/06/medium_image-1594220434113.jpg
END:VEVENT
BEGIN:VEVENT
DTSTART;TZID=America/Chicago:20200727T190000
DTEND;TZID=America/Chicago:20200727T210000
DTSTAMP:20260423T035230
CREATED:20200617T215440Z
LAST-MODIFIED:20200715T160553Z
UID:3227-1595876400-1595883600@trinitytx.org
SUMMARY:Outback - Fun Camp!
DESCRIPTION:1st – 6th Grades \nJuly 27th – 30th\n7:00 PM – 9:00 PM \nIn Trinity’s Backyard
URL:https://trinitytx.org/event/outback-fun-camp/
LOCATION:Trinity Baptist Church\, 2830 W Ferguson Rd\, Mt Pleasant\, TX\, 75455\, United States
CATEGORIES:Church Events,Community Events
ATTACH;FMTTYPE=image/jpeg:https://trinitytx.org/wp-content/uploads/2020/06/medium_image-1594220434113.jpg
END:VEVENT
BEGIN:VEVENT
DTSTART;VALUE=DATE:20200720
DTEND;VALUE=DATE:20200724
DTSTAMP:20260423T035230
CREATED:20200617T215927Z
LAST-MODIFIED:20200619T021858Z
UID:3234-1595203200-1595548799@trinitytx.org
SUMMARY:RE WIRED
DESCRIPTION:Biblical Worldview Institute for Students \nJuly 20th – 23rd \n$175 \nREGISTER NOW
URL:https://trinitytx.org/event/re-wired/
LOCATION:Trinity Baptist Church\, 2830 W Ferguson Rd\, Mt Pleasant\, TX\, 75455\, United States
CATEGORIES:Church Events,Community Events
ATTACH;FMTTYPE=image/jpeg:https://trinitytx.org/wp-content/uploads/2020/06/REWIRED-PROMO.jpg
END:VEVENT
BEGIN:VEVENT
DTSTART;TZID=America/Chicago:20200415T180000
DTEND;TZID=America/Chicago:20200415T190000
DTSTAMP:20260423T035230
CREATED:20200225T180312Z
LAST-MODIFIED:20200315T130824Z
UID:2875-1586973600-1586977200@trinitytx.org
SUMMARY:New Member Workshop
DESCRIPTION:New Member Workshop\nApril 8 at 6pm
URL:https://trinitytx.org/event/new-member-workshop-3/
LOCATION:Trinity Baptist Church\, 2830 W Ferguson Rd\, Mt Pleasant\, TX\, 75455\, United States
CATEGORIES:Church Events,Community Events
END:VEVENT
BEGIN:VEVENT
DTSTART;VALUE=DATE:20200318
DTEND;VALUE=DATE:20200319
DTSTAMP:20260423T035230
CREATED:20200225T180609Z
LAST-MODIFIED:20200225T180609Z
UID:2877-1584489600-1584575999@trinitytx.org
SUMMARY:No Wednesday Activities
DESCRIPTION:Spring Break\nNo Activities for the day
URL:https://trinitytx.org/event/no-wednesday-activities/
LOCATION:TX
CATEGORIES:Church Events,Community Events
ATTACH;FMTTYPE=image/jpeg:https://trinitytx.org/wp-content/uploads/2020/02/SPRING-BREAK-WEB-GRAPHIC.jpg
END:VEVENT
BEGIN:VEVENT
DTSTART;TZID=America/Chicago:20200306T130000
DTEND;TZID=America/Chicago:20200308T210000
DTSTAMP:20260423T035230
CREATED:20200205T210057Z
LAST-MODIFIED:20200205T210057Z
UID:2832-1583499600-1583701200@trinitytx.org
SUMMARY:Fully Loaded Weekend - 2020
DESCRIPTION:
URL:https://trinitytx.org/event/fully-loaded-weekend-2020/
LOCATION:Trinity Baptist Church\, 2830 W Ferguson Rd\, Mt Pleasant\, TX\, 75455\, United States
CATEGORIES:Church Events,Community Events
END:VEVENT
BEGIN:VEVENT
DTSTART;TZID=America/Chicago:20200301T120000
DTEND;TZID=America/Chicago:20200301T130000
DTSTAMP:20260423T035230
CREATED:20200129T173655Z
LAST-MODIFIED:20200129T173655Z
UID:2823-1583064000-1583067600@trinitytx.org
SUMMARY:Taco Dinner
DESCRIPTION:A Fundraiser for our TKidz and T56 \n$7 / Plate of 5 Tacos \nCarry-out \nAfter Worship Service. Purchase Tickets from kids or from Dawna Land
URL:https://trinitytx.org/event/taco-dinner-2/
LOCATION:Trinity Baptist Church\, 2830 W Ferguson Rd\, Mt Pleasant\, TX\, 75455\, United States
CATEGORIES:Church Events,Community Events
ATTACH;FMTTYPE=image/jpeg:https://trinitytx.org/wp-content/uploads/2020/01/taco-dinner-screen-WC-copy.jpg
END:VEVENT
BEGIN:VEVENT
DTSTART;TZID=America/Chicago:20200226T180000
DTEND;TZID=America/Chicago:20200226T190000
DTSTAMP:20260423T035230
CREATED:20200129T173428Z
LAST-MODIFIED:20200129T173428Z
UID:2821-1582740000-1582743600@trinitytx.org
SUMMARY:New Member Workshop
DESCRIPTION:Located in Room B107
URL:https://trinitytx.org/event/new-member-workshop-2/
LOCATION:Trinity Baptist Church\, 2830 W Ferguson Rd\, Mt Pleasant\, TX\, 75455\, United States
CATEGORIES:Church Events,Community Events
ATTACH;FMTTYPE=image/jpeg:https://trinitytx.org/wp-content/uploads/2020/01/NMW-Slide-.jpg
END:VEVENT
BEGIN:VEVENT
DTSTART;TZID=America/Chicago:20200202T120000
DTEND;TZID=America/Chicago:20200202T130000
DTSTAMP:20260423T035230
CREATED:20200129T173324Z
LAST-MODIFIED:20200129T173324Z
UID:2816-1580644800-1580648400@trinitytx.org
SUMMARY:Kidz Kamp & Fundraiser Parent Meeting
DESCRIPTION:Kidz Kamp 1st – 6th grades & Fundraiser Parent Meeting \nDirectly after worship in the Worship Center
URL:https://trinitytx.org/event/kidz-kamp-and-fundraiser-parent-meeting/
LOCATION:Trinity Baptist Church\, 2830 W Ferguson Rd\, Mt Pleasant\, TX\, 75455\, United States
CATEGORIES:Church Events,Community Events
ATTACH;FMTTYPE=image/jpeg:https://trinitytx.org/wp-content/uploads/2020/01/2020-SUMMER-CAMP-AND-FUNDRAISER-PARENT-MEETING-WC-SCREEN.jpg
END:VEVENT
BEGIN:VEVENT
DTSTART;TZID=America/Chicago:20191224T170000
DTEND;TZID=America/Chicago:20191224T180000
DTSTAMP:20260423T035230
CREATED:20191128T030030Z
LAST-MODIFIED:20191128T030906Z
UID:2723-1577206800-1577210400@trinitytx.org
SUMMARY:Christmas Eve at Trinity
DESCRIPTION:Join us for a Candlelight service at Trinity as we celebrate the birth of our Lord Jesus Christ
URL:https://trinitytx.org/event/christmas-eve-at-trinity/
LOCATION:Trinity Baptist Church\, 2830 W Ferguson Rd\, Mt Pleasant\, TX\, 75455\, United States
CATEGORIES:Church Events,Community Events
ATTACH;FMTTYPE=image/jpeg:https://trinitytx.org/wp-content/uploads/2019/11/CHRISTMAS-EVE-PROMO-WC2.jpg
END:VEVENT
BEGIN:VEVENT
DTSTART;TZID=America/Chicago:20191124T173000
DTEND;TZID=America/Chicago:20191124T190000
DTSTAMP:20260423T035230
CREATED:20191108T192550Z
LAST-MODIFIED:20191108T192550Z
UID:2691-1574616600-1574622000@trinitytx.org
SUMMARY:Thanksgiving Dinner
DESCRIPTION:Thanksgiving Dinner\nBenefiting Foster & Adoptive Families \nSign up to volunteer in the foyer
URL:https://trinitytx.org/event/thanksgiving-dinner/
LOCATION:TX
CATEGORIES:Church Events,Community Events
ATTACH;FMTTYPE=image/jpeg:https://trinitytx.org/wp-content/uploads/2019/11/Thanksgiving-Screen-WC-2019.jpg
END:VEVENT
BEGIN:VEVENT
DTSTART;TZID=America/Chicago:20191031T180000
DTEND;TZID=America/Chicago:20191031T200000
DTSTAMP:20260423T035230
CREATED:20191004T202220Z
LAST-MODIFIED:20191004T202220Z
UID:2626-1572544800-1572552000@trinitytx.org
SUMMARY:Festibration
DESCRIPTION:Please join us at Trinity as we provide a Free and Safe alternative to Halloween for the children in our community. There’s going to be Games\, Food\, Face Painting\, Candy\, and Non Food prizes for Kids with Food Allergies!
URL:https://trinitytx.org/event/festibration/
LOCATION:Trinity Baptist Church\, 2830 W Ferguson Rd\, Mt Pleasant\, TX\, 75455\, United States
CATEGORIES:Church Events,Community Events
ATTACH;FMTTYPE=image/jpeg:https://trinitytx.org/wp-content/uploads/2019/10/Festibration-Screen-HD-2019.jpg
END:VEVENT
BEGIN:VEVENT
DTSTART;TZID=America/Chicago:20191020T180000
DTEND;TZID=America/Chicago:20191020T200000
DTSTAMP:20260423T035230
CREATED:20190731T221413Z
LAST-MODIFIED:20190731T221821Z
UID:2434-1571594400-1571601600@trinitytx.org
SUMMARY:Family Movie Night
DESCRIPTION:Playing the movie: Like Arrows
URL:https://trinitytx.org/event/family-movie-night/
LOCATION:Trinity Baptist Church\, 2830 W Ferguson Rd\, Mt Pleasant\, TX\, 75455\, United States
CATEGORIES:Church Events,Community Events
ATTACH;FMTTYPE=image/jpeg:https://trinitytx.org/wp-content/uploads/2019/07/Family-Movie-Night.jpg
END:VEVENT
BEGIN:VEVENT
DTSTART;VALUE=DATE:20190723
DTEND;VALUE=DATE:20190727
DTSTAMP:20260423T035230
CREATED:20190508T151107Z
LAST-MODIFIED:20190528T161821Z
UID:1857-1563840000-1564185599@trinitytx.org
SUMMARY:Accelerate Kidz Kamp
DESCRIPTION:Purley Gates Retreat in Purley\, TX \n1st-4th Graders is July 24th – 26th – $130 \n5th-6th Graders is July 23rd-26th – $185 \n$50 deposit \nCost will increase $15 after June 16th. \n**Sign-up deadline July 7th** \nRegistration Form\nWAIVERS
URL:https://trinitytx.org/event/accelerate-kidz-kamp/
LOCATION:Purley Gates Retreat\, 1351 FM 900 E\, Mt Vernon\, TX\, 75457\, United States
CATEGORIES:Church Events,Community Events
ATTACH;FMTTYPE=image/jpeg:https://trinitytx.org/wp-content/uploads/2019/05/Accelerate-Kidz-Camp.jpg
END:VEVENT
BEGIN:VEVENT
DTSTART;TZID=America/Chicago:20190623T170000
DTEND;TZID=America/Chicago:20190623T180000
DTSTAMP:20260423T035230
CREATED:20190523T192525Z
LAST-MODIFIED:20190523T192525Z
UID:1899-1561309200-1561312800@trinitytx.org
SUMMARY:New Members Workshop
DESCRIPTION:
URL:https://trinitytx.org/event/new-members-workshop/
LOCATION:Trinity Baptist Church\, 2830 W Ferguson Rd\, Mt Pleasant\, TX\, 75455\, United States
CATEGORIES:Church Events,Community Events
ATTACH;FMTTYPE=image/jpeg:https://trinitytx.org/wp-content/uploads/2019/05/membership_class-PSD-copy.jpg
END:VEVENT
BEGIN:VEVENT
DTSTART;VALUE=DATE:20190617
DTEND;VALUE=DATE:20190622
DTSTAMP:20260423T035230
CREATED:20190603T212821Z
LAST-MODIFIED:20190603T212821Z
UID:1958-1560729600-1561161599@trinitytx.org
SUMMARY:Impact Youth Camp
DESCRIPTION:When: June 17 – June 21 \nWhere: TX Baptist Encampment\, Palacios\, TX \nWho: 7-12 Grade Students \nHow: $300
URL:https://trinitytx.org/event/impact-youth-camp/
LOCATION:Palacious Baptist Encampment\, 100 1st st\, palacious\, TX\, 77465\, United States
CATEGORIES:Church Events,Community Events
ATTACH;FMTTYPE=image/png:https://trinitytx.org/wp-content/uploads/2019/06/Impact-Camp-2019.png
END:VEVENT
BEGIN:VEVENT
DTSTART;TZID=America/Chicago:20190603T180000
DTEND;TZID=America/Chicago:20190606T203000
DTSTAMP:20260423T035230
CREATED:20190508T160753Z
LAST-MODIFIED:20190528T144241Z
UID:1863-1559584800-1559853000@trinitytx.org
SUMMARY:Fun Camp
DESCRIPTION:Come join us at Fun Camp for completed grades 1st – 6th Grades on June 3rd-6th \nRegistration Forms Below \nRegistration Forms
URL:https://trinitytx.org/event/fun-camp/
LOCATION:Dellwood Park\, 726 E Ferguson Rd\, Mt Pleasant\, TX\, 75455\, United States
CATEGORIES:Church Events,Community Events
ATTACH;FMTTYPE=image/png:https://trinitytx.org/wp-content/uploads/2019/05/FUN-CAMP-BANNER-2019.png
END:VEVENT
BEGIN:VEVENT
DTSTART;TZID=America/Chicago:20190519T173000
DTEND;TZID=America/Chicago:20190519T190000
DTSTAMP:20260423T035230
CREATED:20190508T150356Z
LAST-MODIFIED:20190508T150356Z
UID:1854-1558287000-1558292400@trinitytx.org
SUMMARY:Cake Auction and Church Picnic
DESCRIPTION:Bring a covered dish & cake \nWater slides for the kids
URL:https://trinitytx.org/event/cake-auction-and-church-picnic/
LOCATION:Trinity Baptist Church\, 2830 W Ferguson Rd\, Mt Pleasant\, TX\, 75455\, United States
CATEGORIES:Church Events,Community Events
ATTACH;FMTTYPE=image/jpeg:https://trinitytx.org/wp-content/uploads/2019/05/CakeAuctionandChurchPicnic.jpg
END:VEVENT
BEGIN:VEVENT
DTSTART;TZID=America/Chicago:20190519T110000
DTEND;TZID=America/Chicago:20190519T120000
DTSTAMP:20260423T035230
CREATED:20190508T160955Z
LAST-MODIFIED:20190508T160955Z
UID:1866-1558263600-1558267200@trinitytx.org
SUMMARY:Graduate Recognition 2019
DESCRIPTION:Come help us recognize our High School Graduates 2019 on Sunday May 19th during our service.
URL:https://trinitytx.org/event/graduate-recognition-2019/
LOCATION:Trinity Baptist Church\, 2830 W Ferguson Rd\, Mt Pleasant\, TX\, 75455\, United States
CATEGORIES:Church Events,Community Events
ATTACH;FMTTYPE=image/jpeg:https://trinitytx.org/wp-content/uploads/2019/05/Graduate-Recognition.jpg
END:VEVENT
BEGIN:VEVENT
DTSTART;TZID=America/Chicago:20190508T080000
DTEND;TZID=America/Chicago:20190508T170000
DTSTAMP:20260423T035230
CREATED:20190508T161228Z
LAST-MODIFIED:20190508T161228Z
UID:1869-1557302400-1557334800@trinitytx.org
SUMMARY:League of Dreams
DESCRIPTION:
URL:https://trinitytx.org/event/league-of-dreams/
LOCATION:Edwards Park\, Edwards Park\, Mt Pleasant\, TX\, 75455\, United States
CATEGORIES:Church Events,Community Events
ATTACH;FMTTYPE=image/jpeg:https://trinitytx.org/wp-content/uploads/2019/05/League-of-Dreams.jpg
END:VEVENT
BEGIN:VEVENT
DTSTART;TZID=America/Chicago:20190503T170000
DTEND;TZID=America/Chicago:20190505T120000
DTSTAMP:20260423T035230
CREATED:20190313T182358Z
LAST-MODIFIED:20190403T224633Z
UID:1696-1556902800-1557057600@trinitytx.org
SUMMARY:Merge Weekend
DESCRIPTION:For 5th and 6th grade students. \nRegister Now
URL:https://trinitytx.org/event/merge-weekend/
LOCATION:Trinity Baptist Church\, 2830 W Ferguson Rd\, Mt Pleasant\, TX\, 75455\, United States
CATEGORIES:Church Events,Community Events
ATTACH;FMTTYPE=image/jpeg:https://trinitytx.org/wp-content/uploads/2019/03/MergeWeekend.jpg
END:VEVENT
BEGIN:VEVENT
DTSTART;TZID=America/Chicago:20190420T080000
DTEND;TZID=America/Chicago:20190420T110000
DTSTAMP:20260423T035230
CREATED:20190309T152141Z
LAST-MODIFIED:20190309T152141Z
UID:1674-1555747200-1555758000@trinitytx.org
SUMMARY:Move Your Keister on Easter - 5K
DESCRIPTION:Move Your Keister on Easter – 5K 2019\nAt Dellwood Park \nSaturday April 20th\n8:00AM – 11:00AM \nSignup on Facebook
URL:https://trinitytx.org/event/move-your-keister-on-easter-5k/
LOCATION:Dellwood Park\, 726 E Ferguson Rd\, Mt Pleasant\, TX\, 75455\, United States
CATEGORIES:Community Events
END:VEVENT
END:VCALENDAR