BEGIN:VCALENDAR
VERSION:2.0
PRODID:-//Trinity Baptist Church - ECPv6.15.20//NONSGML v1.0//EN
CALSCALE:GREGORIAN
METHOD:PUBLISH
X-ORIGINAL-URL:https://trinitytx.org
X-WR-CALDESC:Events for Trinity Baptist Church
REFRESH-INTERVAL;VALUE=DURATION:PT1H
X-Robots-Tag:noindex
X-PUBLISHED-TTL:PT1H
BEGIN:VTIMEZONE
TZID:America/Chicago
BEGIN:DAYLIGHT
TZOFFSETFROM:-0600
TZOFFSETTO:-0500
TZNAME:CDT
DTSTART:20200308T080000
END:DAYLIGHT
BEGIN:STANDARD
TZOFFSETFROM:-0500
TZOFFSETTO:-0600
TZNAME:CST
DTSTART:20201101T070000
END:STANDARD
BEGIN:DAYLIGHT
TZOFFSETFROM:-0600
TZOFFSETTO:-0500
TZNAME:CDT
DTSTART:20210314T080000
END:DAYLIGHT
BEGIN:STANDARD
TZOFFSETFROM:-0500
TZOFFSETTO:-0600
TZNAME:CST
DTSTART:20211107T070000
END:STANDARD
BEGIN:DAYLIGHT
TZOFFSETFROM:-0600
TZOFFSETTO:-0500
TZNAME:CDT
DTSTART:20220313T080000
END:DAYLIGHT
BEGIN:STANDARD
TZOFFSETFROM:-0500
TZOFFSETTO:-0600
TZNAME:CST
DTSTART:20221106T070000
END:STANDARD
END:VTIMEZONE
BEGIN:VEVENT
DTSTART;TZID=America/Chicago:20211121T093000
DTEND;TZID=America/Chicago:20211121T103000
DTSTAMP:20260424T230626
CREATED:20210324T193942Z
LAST-MODIFIED:20210324T193942Z
UID:4163-1637487000-1637490600@trinitytx.org
SUMMARY:Worship Service - 1st
DESCRIPTION:
URL:https://trinitytx.org/event/worship-service-1st-2021-11-21/
LOCATION:Trinity Baptist Church\, 2830 W Ferguson Rd\, Mt Pleasant\, TX\, 75455\, United States
CATEGORIES:Church Events,Recurring Events
ATTACH;FMTTYPE=image/png:https://trinitytx.org/wp-content/uploads/2021/03/Welcome-to-Trinity-1920x1080-1.png
END:VEVENT
BEGIN:VEVENT
DTSTART;TZID=America/Chicago:20211114T110000
DTEND;TZID=America/Chicago:20211114T120000
DTSTAMP:20260424T230626
CREATED:20210324T194256Z
LAST-MODIFIED:20210324T194256Z
UID:4267-1636887600-1636891200@trinitytx.org
SUMMARY:Worship Service - 2nd
DESCRIPTION:
URL:https://trinitytx.org/event/worship-service-2nd-2021-11-14/
LOCATION:Trinity Baptist Church\, 2830 W Ferguson Rd\, Mt Pleasant\, TX\, 75455\, United States
CATEGORIES:Church Events,Recurring Events
ATTACH;FMTTYPE=image/png:https://trinitytx.org/wp-content/uploads/2021/03/Welcome-to-Trinity-1920x1080-1.png
END:VEVENT
BEGIN:VEVENT
DTSTART;TZID=America/Chicago:20211114T093000
DTEND;TZID=America/Chicago:20211114T103000
DTSTAMP:20260424T230626
CREATED:20210324T193942Z
LAST-MODIFIED:20210324T193942Z
UID:4162-1636882200-1636885800@trinitytx.org
SUMMARY:Worship Service - 1st
DESCRIPTION:
URL:https://trinitytx.org/event/worship-service-1st-2021-11-14/
LOCATION:Trinity Baptist Church\, 2830 W Ferguson Rd\, Mt Pleasant\, TX\, 75455\, United States
CATEGORIES:Church Events,Recurring Events
ATTACH;FMTTYPE=image/png:https://trinitytx.org/wp-content/uploads/2021/03/Welcome-to-Trinity-1920x1080-1.png
END:VEVENT
BEGIN:VEVENT
DTSTART;TZID=America/Chicago:20211107T110000
DTEND;TZID=America/Chicago:20211107T120000
DTSTAMP:20260424T230626
CREATED:20210324T194256Z
LAST-MODIFIED:20210324T194256Z
UID:4266-1636282800-1636286400@trinitytx.org
SUMMARY:Worship Service - 2nd
DESCRIPTION:
URL:https://trinitytx.org/event/worship-service-2nd-2021-11-07/
LOCATION:Trinity Baptist Church\, 2830 W Ferguson Rd\, Mt Pleasant\, TX\, 75455\, United States
CATEGORIES:Church Events,Recurring Events
ATTACH;FMTTYPE=image/png:https://trinitytx.org/wp-content/uploads/2021/03/Welcome-to-Trinity-1920x1080-1.png
END:VEVENT
BEGIN:VEVENT
DTSTART;TZID=America/Chicago:20211107T093000
DTEND;TZID=America/Chicago:20211107T103000
DTSTAMP:20260424T230626
CREATED:20210324T193942Z
LAST-MODIFIED:20210324T193942Z
UID:4161-1636277400-1636281000@trinitytx.org
SUMMARY:Worship Service - 1st
DESCRIPTION:
URL:https://trinitytx.org/event/worship-service-1st-2021-11-07/
LOCATION:Trinity Baptist Church\, 2830 W Ferguson Rd\, Mt Pleasant\, TX\, 75455\, United States
CATEGORIES:Church Events,Recurring Events
ATTACH;FMTTYPE=image/png:https://trinitytx.org/wp-content/uploads/2021/03/Welcome-to-Trinity-1920x1080-1.png
END:VEVENT
BEGIN:VEVENT
DTSTART;TZID=America/Chicago:20211031T160000
DTEND;TZID=America/Chicago:20211031T180000
DTSTAMP:20260424T230626
CREATED:20211007T172450Z
LAST-MODIFIED:20211007T172450Z
UID:4653-1635696000-1635703200@trinitytx.org
SUMMARY:Festibration 2021
DESCRIPTION:FESTIBRATION\nOctober 31st\, from 4-6pm \nFree Halloween Alternative for Kids. \nWe will have Food\, Games\, Candy\, and other Non-Food Prizes right in Trinity’s backyard.
URL:https://trinitytx.org/event/festibration-2021/
LOCATION:Trinity Baptist Church\, 2830 W Ferguson Rd\, Mt Pleasant\, TX\, 75455\, United States
CATEGORIES:Church Events,Community Events
ATTACH;FMTTYPE=image/jpeg:https://trinitytx.org/wp-content/uploads/2021/10/Festibration-Website.jpg
END:VEVENT
BEGIN:VEVENT
DTSTART;TZID=America/Chicago:20211031T110000
DTEND;TZID=America/Chicago:20211031T120000
DTSTAMP:20260424T230626
CREATED:20210324T194256Z
LAST-MODIFIED:20210324T194256Z
UID:4265-1635678000-1635681600@trinitytx.org
SUMMARY:Worship Service - 2nd
DESCRIPTION:
URL:https://trinitytx.org/event/worship-service-2nd-2021-10-31/
LOCATION:Trinity Baptist Church\, 2830 W Ferguson Rd\, Mt Pleasant\, TX\, 75455\, United States
CATEGORIES:Church Events,Recurring Events
ATTACH;FMTTYPE=image/png:https://trinitytx.org/wp-content/uploads/2021/03/Welcome-to-Trinity-1920x1080-1.png
END:VEVENT
BEGIN:VEVENT
DTSTART;TZID=America/Chicago:20211031T093000
DTEND;TZID=America/Chicago:20211031T103000
DTSTAMP:20260424T230626
CREATED:20210324T193942Z
LAST-MODIFIED:20210324T193942Z
UID:4160-1635672600-1635676200@trinitytx.org
SUMMARY:Worship Service - 1st
DESCRIPTION:
URL:https://trinitytx.org/event/worship-service-1st-2021-10-31/
LOCATION:Trinity Baptist Church\, 2830 W Ferguson Rd\, Mt Pleasant\, TX\, 75455\, United States
CATEGORIES:Church Events,Recurring Events
ATTACH;FMTTYPE=image/png:https://trinitytx.org/wp-content/uploads/2021/03/Welcome-to-Trinity-1920x1080-1.png
END:VEVENT
BEGIN:VEVENT
DTSTART;TZID=America/Chicago:20211024T110000
DTEND;TZID=America/Chicago:20211024T120000
DTSTAMP:20260424T230626
CREATED:20210324T194256Z
LAST-MODIFIED:20210324T194256Z
UID:4264-1635073200-1635076800@trinitytx.org
SUMMARY:Worship Service - 2nd
DESCRIPTION:
URL:https://trinitytx.org/event/worship-service-2nd-2021-10-24/
LOCATION:Trinity Baptist Church\, 2830 W Ferguson Rd\, Mt Pleasant\, TX\, 75455\, United States
CATEGORIES:Church Events,Recurring Events
ATTACH;FMTTYPE=image/png:https://trinitytx.org/wp-content/uploads/2021/03/Welcome-to-Trinity-1920x1080-1.png
END:VEVENT
BEGIN:VEVENT
DTSTART;TZID=America/Chicago:20211024T093000
DTEND;TZID=America/Chicago:20211024T103000
DTSTAMP:20260424T230626
CREATED:20210324T193942Z
LAST-MODIFIED:20210324T193942Z
UID:4159-1635067800-1635071400@trinitytx.org
SUMMARY:Worship Service - 1st
DESCRIPTION:
URL:https://trinitytx.org/event/worship-service-1st-2021-10-24/
LOCATION:Trinity Baptist Church\, 2830 W Ferguson Rd\, Mt Pleasant\, TX\, 75455\, United States
CATEGORIES:Church Events,Recurring Events
ATTACH;FMTTYPE=image/png:https://trinitytx.org/wp-content/uploads/2021/03/Welcome-to-Trinity-1920x1080-1.png
END:VEVENT
BEGIN:VEVENT
DTSTART;TZID=America/Chicago:20211017T120000
DTEND;TZID=America/Chicago:20211017T123000
DTSTAMP:20260424T230626
CREATED:20211007T172714Z
LAST-MODIFIED:20211007T172714Z
UID:4655-1634472000-1634473800@trinitytx.org
SUMMARY:Kids Camp Informational Meeting
DESCRIPTION:Parents of 3rd-6th Graders \nSunday\, October 17th at 12:00PM in the Worship Center.
URL:https://trinitytx.org/event/kids-camp-informational-meeting/
LOCATION:TX
CATEGORIES:Church Events,Community Events
ATTACH;FMTTYPE=image/jpeg:https://trinitytx.org/wp-content/uploads/2021/10/SLKC-Parent-Meeting-Tiny.jpg
END:VEVENT
BEGIN:VEVENT
DTSTART;TZID=America/Chicago:20211017T110000
DTEND;TZID=America/Chicago:20211017T120000
DTSTAMP:20260424T230626
CREATED:20210324T194256Z
LAST-MODIFIED:20210324T194256Z
UID:4263-1634468400-1634472000@trinitytx.org
SUMMARY:Worship Service - 2nd
DESCRIPTION:
URL:https://trinitytx.org/event/worship-service-2nd-2021-10-17/
LOCATION:Trinity Baptist Church\, 2830 W Ferguson Rd\, Mt Pleasant\, TX\, 75455\, United States
CATEGORIES:Church Events,Recurring Events
ATTACH;FMTTYPE=image/png:https://trinitytx.org/wp-content/uploads/2021/03/Welcome-to-Trinity-1920x1080-1.png
END:VEVENT
BEGIN:VEVENT
DTSTART;TZID=America/Chicago:20211017T093000
DTEND;TZID=America/Chicago:20211017T103000
DTSTAMP:20260424T230626
CREATED:20210324T193942Z
LAST-MODIFIED:20210324T193942Z
UID:4158-1634463000-1634466600@trinitytx.org
SUMMARY:Worship Service - 1st
DESCRIPTION:
URL:https://trinitytx.org/event/worship-service-1st-2021-10-17/
LOCATION:Trinity Baptist Church\, 2830 W Ferguson Rd\, Mt Pleasant\, TX\, 75455\, United States
CATEGORIES:Church Events,Recurring Events
ATTACH;FMTTYPE=image/png:https://trinitytx.org/wp-content/uploads/2021/03/Welcome-to-Trinity-1920x1080-1.png
END:VEVENT
BEGIN:VEVENT
DTSTART;TZID=America/Chicago:20211010T110000
DTEND;TZID=America/Chicago:20211010T120000
DTSTAMP:20260424T230626
CREATED:20210324T194256Z
LAST-MODIFIED:20210324T194256Z
UID:4262-1633863600-1633867200@trinitytx.org
SUMMARY:Worship Service - 2nd
DESCRIPTION:
URL:https://trinitytx.org/event/worship-service-2nd-2021-10-10/
LOCATION:Trinity Baptist Church\, 2830 W Ferguson Rd\, Mt Pleasant\, TX\, 75455\, United States
CATEGORIES:Church Events,Recurring Events
ATTACH;FMTTYPE=image/png:https://trinitytx.org/wp-content/uploads/2021/03/Welcome-to-Trinity-1920x1080-1.png
END:VEVENT
BEGIN:VEVENT
DTSTART;TZID=America/Chicago:20211010T093000
DTEND;TZID=America/Chicago:20211010T103000
DTSTAMP:20260424T230626
CREATED:20210324T193942Z
LAST-MODIFIED:20210324T193942Z
UID:4157-1633858200-1633861800@trinitytx.org
SUMMARY:Worship Service - 1st
DESCRIPTION:
URL:https://trinitytx.org/event/worship-service-1st-2021-10-10/
LOCATION:Trinity Baptist Church\, 2830 W Ferguson Rd\, Mt Pleasant\, TX\, 75455\, United States
CATEGORIES:Church Events,Recurring Events
ATTACH;FMTTYPE=image/png:https://trinitytx.org/wp-content/uploads/2021/03/Welcome-to-Trinity-1920x1080-1.png
END:VEVENT
BEGIN:VEVENT
DTSTART;TZID=America/Chicago:20211003T110000
DTEND;TZID=America/Chicago:20211003T120000
DTSTAMP:20260424T230626
CREATED:20210324T194256Z
LAST-MODIFIED:20210324T194256Z
UID:4261-1633258800-1633262400@trinitytx.org
SUMMARY:Worship Service - 2nd
DESCRIPTION:
URL:https://trinitytx.org/event/worship-service-2nd-2021-10-03/
LOCATION:Trinity Baptist Church\, 2830 W Ferguson Rd\, Mt Pleasant\, TX\, 75455\, United States
CATEGORIES:Church Events,Recurring Events
ATTACH;FMTTYPE=image/png:https://trinitytx.org/wp-content/uploads/2021/03/Welcome-to-Trinity-1920x1080-1.png
END:VEVENT
BEGIN:VEVENT
DTSTART;TZID=America/Chicago:20211003T093000
DTEND;TZID=America/Chicago:20211003T103000
DTSTAMP:20260424T230626
CREATED:20210324T193942Z
LAST-MODIFIED:20210324T193942Z
UID:4156-1633253400-1633257000@trinitytx.org
SUMMARY:Worship Service - 1st
DESCRIPTION:
URL:https://trinitytx.org/event/worship-service-1st-2021-10-03/
LOCATION:Trinity Baptist Church\, 2830 W Ferguson Rd\, Mt Pleasant\, TX\, 75455\, United States
CATEGORIES:Church Events,Recurring Events
ATTACH;FMTTYPE=image/png:https://trinitytx.org/wp-content/uploads/2021/03/Welcome-to-Trinity-1920x1080-1.png
END:VEVENT
BEGIN:VEVENT
DTSTART;TZID=America/Chicago:20210926T110000
DTEND;TZID=America/Chicago:20210926T120000
DTSTAMP:20260424T230626
CREATED:20210324T194256Z
LAST-MODIFIED:20210324T194256Z
UID:4260-1632654000-1632657600@trinitytx.org
SUMMARY:Worship Service - 2nd
DESCRIPTION:
URL:https://trinitytx.org/event/worship-service-2nd-2021-09-26/
LOCATION:Trinity Baptist Church\, 2830 W Ferguson Rd\, Mt Pleasant\, TX\, 75455\, United States
CATEGORIES:Church Events,Recurring Events
ATTACH;FMTTYPE=image/png:https://trinitytx.org/wp-content/uploads/2021/03/Welcome-to-Trinity-1920x1080-1.png
END:VEVENT
BEGIN:VEVENT
DTSTART;TZID=America/Chicago:20210926T093000
DTEND;TZID=America/Chicago:20210926T103000
DTSTAMP:20260424T230626
CREATED:20210324T193942Z
LAST-MODIFIED:20210324T193942Z
UID:4155-1632648600-1632652200@trinitytx.org
SUMMARY:Worship Service - 1st
DESCRIPTION:
URL:https://trinitytx.org/event/worship-service-1st-2021-09-26/
LOCATION:Trinity Baptist Church\, 2830 W Ferguson Rd\, Mt Pleasant\, TX\, 75455\, United States
CATEGORIES:Church Events,Recurring Events
ATTACH;FMTTYPE=image/png:https://trinitytx.org/wp-content/uploads/2021/03/Welcome-to-Trinity-1920x1080-1.png
END:VEVENT
BEGIN:VEVENT
DTSTART;TZID=America/Chicago:20210919T110000
DTEND;TZID=America/Chicago:20210919T120000
DTSTAMP:20260424T230626
CREATED:20210324T194256Z
LAST-MODIFIED:20210324T194256Z
UID:4259-1632049200-1632052800@trinitytx.org
SUMMARY:Worship Service - 2nd
DESCRIPTION:
URL:https://trinitytx.org/event/worship-service-2nd-2021-09-19/
LOCATION:Trinity Baptist Church\, 2830 W Ferguson Rd\, Mt Pleasant\, TX\, 75455\, United States
CATEGORIES:Church Events,Recurring Events
ATTACH;FMTTYPE=image/png:https://trinitytx.org/wp-content/uploads/2021/03/Welcome-to-Trinity-1920x1080-1.png
END:VEVENT
BEGIN:VEVENT
DTSTART;TZID=America/Chicago:20210919T093000
DTEND;TZID=America/Chicago:20210919T103000
DTSTAMP:20260424T230626
CREATED:20210324T193942Z
LAST-MODIFIED:20210324T193942Z
UID:4154-1632043800-1632047400@trinitytx.org
SUMMARY:Worship Service - 1st
DESCRIPTION:
URL:https://trinitytx.org/event/worship-service-1st-2021-09-19/
LOCATION:Trinity Baptist Church\, 2830 W Ferguson Rd\, Mt Pleasant\, TX\, 75455\, United States
CATEGORIES:Church Events,Recurring Events
ATTACH;FMTTYPE=image/png:https://trinitytx.org/wp-content/uploads/2021/03/Welcome-to-Trinity-1920x1080-1.png
END:VEVENT
BEGIN:VEVENT
DTSTART;TZID=America/Chicago:20210912T110000
DTEND;TZID=America/Chicago:20210912T120000
DTSTAMP:20260424T230626
CREATED:20210324T194256Z
LAST-MODIFIED:20210324T194256Z
UID:4258-1631444400-1631448000@trinitytx.org
SUMMARY:Worship Service - 2nd
DESCRIPTION:
URL:https://trinitytx.org/event/worship-service-2nd-2021-09-12/
LOCATION:Trinity Baptist Church\, 2830 W Ferguson Rd\, Mt Pleasant\, TX\, 75455\, United States
CATEGORIES:Church Events,Recurring Events
ATTACH;FMTTYPE=image/png:https://trinitytx.org/wp-content/uploads/2021/03/Welcome-to-Trinity-1920x1080-1.png
END:VEVENT
BEGIN:VEVENT
DTSTART;TZID=America/Chicago:20210912T093000
DTEND;TZID=America/Chicago:20210912T103000
DTSTAMP:20260424T230626
CREATED:20210324T193942Z
LAST-MODIFIED:20210324T193942Z
UID:4153-1631439000-1631442600@trinitytx.org
SUMMARY:Worship Service - 1st
DESCRIPTION:
URL:https://trinitytx.org/event/worship-service-1st-2021-09-12/
LOCATION:Trinity Baptist Church\, 2830 W Ferguson Rd\, Mt Pleasant\, TX\, 75455\, United States
CATEGORIES:Church Events,Recurring Events
ATTACH;FMTTYPE=image/png:https://trinitytx.org/wp-content/uploads/2021/03/Welcome-to-Trinity-1920x1080-1.png
END:VEVENT
BEGIN:VEVENT
DTSTART;TZID=America/Chicago:20210905T110000
DTEND;TZID=America/Chicago:20210905T120000
DTSTAMP:20260424T230626
CREATED:20210324T194256Z
LAST-MODIFIED:20210324T194256Z
UID:4257-1630839600-1630843200@trinitytx.org
SUMMARY:Worship Service - 2nd
DESCRIPTION:
URL:https://trinitytx.org/event/worship-service-2nd-2021-09-05/
LOCATION:Trinity Baptist Church\, 2830 W Ferguson Rd\, Mt Pleasant\, TX\, 75455\, United States
CATEGORIES:Church Events,Recurring Events
ATTACH;FMTTYPE=image/png:https://trinitytx.org/wp-content/uploads/2021/03/Welcome-to-Trinity-1920x1080-1.png
END:VEVENT
BEGIN:VEVENT
DTSTART;TZID=America/Chicago:20210905T093000
DTEND;TZID=America/Chicago:20210905T103000
DTSTAMP:20260424T230626
CREATED:20210324T193942Z
LAST-MODIFIED:20210324T193942Z
UID:4152-1630834200-1630837800@trinitytx.org
SUMMARY:Worship Service - 1st
DESCRIPTION:
URL:https://trinitytx.org/event/worship-service-1st-2021-09-05/
LOCATION:Trinity Baptist Church\, 2830 W Ferguson Rd\, Mt Pleasant\, TX\, 75455\, United States
CATEGORIES:Church Events,Recurring Events
ATTACH;FMTTYPE=image/png:https://trinitytx.org/wp-content/uploads/2021/03/Welcome-to-Trinity-1920x1080-1.png
END:VEVENT
BEGIN:VEVENT
DTSTART;TZID=America/Chicago:20210829T110000
DTEND;TZID=America/Chicago:20210829T120000
DTSTAMP:20260424T230626
CREATED:20210324T194256Z
LAST-MODIFIED:20210324T194256Z
UID:4256-1630234800-1630238400@trinitytx.org
SUMMARY:Worship Service - 2nd
DESCRIPTION:
URL:https://trinitytx.org/event/worship-service-2nd-2021-08-29/
LOCATION:Trinity Baptist Church\, 2830 W Ferguson Rd\, Mt Pleasant\, TX\, 75455\, United States
CATEGORIES:Church Events,Recurring Events
ATTACH;FMTTYPE=image/png:https://trinitytx.org/wp-content/uploads/2021/03/Welcome-to-Trinity-1920x1080-1.png
END:VEVENT
BEGIN:VEVENT
DTSTART;TZID=America/Chicago:20210829T093000
DTEND;TZID=America/Chicago:20210829T103000
DTSTAMP:20260424T230626
CREATED:20210324T193942Z
LAST-MODIFIED:20210324T193942Z
UID:4151-1630229400-1630233000@trinitytx.org
SUMMARY:Worship Service - 1st
DESCRIPTION:
URL:https://trinitytx.org/event/worship-service-1st-2021-08-29/
LOCATION:Trinity Baptist Church\, 2830 W Ferguson Rd\, Mt Pleasant\, TX\, 75455\, United States
CATEGORIES:Church Events,Recurring Events
ATTACH;FMTTYPE=image/png:https://trinitytx.org/wp-content/uploads/2021/03/Welcome-to-Trinity-1920x1080-1.png
END:VEVENT
BEGIN:VEVENT
DTSTART;TZID=America/Chicago:20210822T110000
DTEND;TZID=America/Chicago:20210822T120000
DTSTAMP:20260424T230626
CREATED:20210324T194256Z
LAST-MODIFIED:20210324T194256Z
UID:4255-1629630000-1629633600@trinitytx.org
SUMMARY:Worship Service - 2nd
DESCRIPTION:
URL:https://trinitytx.org/event/worship-service-2nd-2021-08-22/
LOCATION:Trinity Baptist Church\, 2830 W Ferguson Rd\, Mt Pleasant\, TX\, 75455\, United States
CATEGORIES:Church Events,Recurring Events
ATTACH;FMTTYPE=image/png:https://trinitytx.org/wp-content/uploads/2021/03/Welcome-to-Trinity-1920x1080-1.png
END:VEVENT
BEGIN:VEVENT
DTSTART;TZID=America/Chicago:20210822T093000
DTEND;TZID=America/Chicago:20210822T103000
DTSTAMP:20260424T230626
CREATED:20210324T193942Z
LAST-MODIFIED:20210324T193942Z
UID:4150-1629624600-1629628200@trinitytx.org
SUMMARY:Worship Service - 1st
DESCRIPTION:
URL:https://trinitytx.org/event/worship-service-1st-2021-08-22/
LOCATION:Trinity Baptist Church\, 2830 W Ferguson Rd\, Mt Pleasant\, TX\, 75455\, United States
CATEGORIES:Church Events,Recurring Events
ATTACH;FMTTYPE=image/png:https://trinitytx.org/wp-content/uploads/2021/03/Welcome-to-Trinity-1920x1080-1.png
END:VEVENT
BEGIN:VEVENT
DTSTART;TZID=America/Chicago:20210815T110000
DTEND;TZID=America/Chicago:20210815T120000
DTSTAMP:20260424T230626
CREATED:20210324T194256Z
LAST-MODIFIED:20210324T194256Z
UID:4254-1629025200-1629028800@trinitytx.org
SUMMARY:Worship Service - 2nd
DESCRIPTION:
URL:https://trinitytx.org/event/worship-service-2nd-2021-08-15/
LOCATION:Trinity Baptist Church\, 2830 W Ferguson Rd\, Mt Pleasant\, TX\, 75455\, United States
CATEGORIES:Church Events,Recurring Events
ATTACH;FMTTYPE=image/png:https://trinitytx.org/wp-content/uploads/2021/03/Welcome-to-Trinity-1920x1080-1.png
END:VEVENT
END:VCALENDAR