BEGIN:VCALENDAR
VERSION:2.0
PRODID:-//Trinity Baptist Church - ECPv6.15.20//NONSGML v1.0//EN
CALSCALE:GREGORIAN
METHOD:PUBLISH
X-WR-CALNAME:Trinity Baptist Church
X-ORIGINAL-URL:https://trinitytx.org
X-WR-CALDESC:Events for Trinity Baptist Church
REFRESH-INTERVAL;VALUE=DURATION:PT1H
X-Robots-Tag:noindex
X-PUBLISHED-TTL:PT1H
BEGIN:VTIMEZONE
TZID:America/Chicago
BEGIN:DAYLIGHT
TZOFFSETFROM:-0600
TZOFFSETTO:-0500
TZNAME:CDT
DTSTART:20210314T080000
END:DAYLIGHT
BEGIN:STANDARD
TZOFFSETFROM:-0500
TZOFFSETTO:-0600
TZNAME:CST
DTSTART:20211107T070000
END:STANDARD
BEGIN:DAYLIGHT
TZOFFSETFROM:-0600
TZOFFSETTO:-0500
TZNAME:CDT
DTSTART:20220313T080000
END:DAYLIGHT
BEGIN:STANDARD
TZOFFSETFROM:-0500
TZOFFSETTO:-0600
TZNAME:CST
DTSTART:20221106T070000
END:STANDARD
BEGIN:DAYLIGHT
TZOFFSETFROM:-0600
TZOFFSETTO:-0500
TZNAME:CDT
DTSTART:20230312T080000
END:DAYLIGHT
BEGIN:STANDARD
TZOFFSETFROM:-0500
TZOFFSETTO:-0600
TZNAME:CST
DTSTART:20231105T070000
END:STANDARD
BEGIN:DAYLIGHT
TZOFFSETFROM:-0600
TZOFFSETTO:-0500
TZNAME:CDT
DTSTART:20240310T080000
END:DAYLIGHT
BEGIN:STANDARD
TZOFFSETFROM:-0500
TZOFFSETTO:-0600
TZNAME:CST
DTSTART:20241103T070000
END:STANDARD
END:VTIMEZONE
BEGIN:VEVENT
DTSTART;TZID=America/Chicago:20230108T110000
DTEND;TZID=America/Chicago:20230108T120000
DTSTAMP:20260424T041043
CREATED:20210324T194256Z
LAST-MODIFIED:20210324T194256Z
UID:4327-1673175600-1673179200@trinitytx.org
SUMMARY:Worship Service - 2nd
DESCRIPTION:
URL:https://trinitytx.org/event/worship-service-2nd-2023-01-08/
LOCATION:Trinity Baptist Church\, 2830 W Ferguson Rd\, Mt Pleasant\, TX\, 75455\, United States
CATEGORIES:Church Events,Recurring Events
ATTACH;FMTTYPE=image/png:https://trinitytx.org/wp-content/uploads/2021/03/Welcome-to-Trinity-1920x1080-1.png
END:VEVENT
BEGIN:VEVENT
DTSTART;TZID=America/Chicago:20230108T093000
DTEND;TZID=America/Chicago:20230108T103000
DTSTAMP:20260424T041043
CREATED:20210324T193942Z
LAST-MODIFIED:20210324T193942Z
UID:4222-1673170200-1673173800@trinitytx.org
SUMMARY:Worship Service - 1st
DESCRIPTION:
URL:https://trinitytx.org/event/worship-service-1st-2023-01-08/
LOCATION:Trinity Baptist Church\, 2830 W Ferguson Rd\, Mt Pleasant\, TX\, 75455\, United States
CATEGORIES:Church Events,Recurring Events
ATTACH;FMTTYPE=image/png:https://trinitytx.org/wp-content/uploads/2021/03/Welcome-to-Trinity-1920x1080-1.png
END:VEVENT
BEGIN:VEVENT
DTSTART;TZID=America/Chicago:20230101T110000
DTEND;TZID=America/Chicago:20230101T120000
DTSTAMP:20260424T041043
CREATED:20210324T194256Z
LAST-MODIFIED:20210324T194256Z
UID:4326-1672570800-1672574400@trinitytx.org
SUMMARY:Worship Service - 2nd
DESCRIPTION:
URL:https://trinitytx.org/event/worship-service-2nd-2023-01-01/
LOCATION:Trinity Baptist Church\, 2830 W Ferguson Rd\, Mt Pleasant\, TX\, 75455\, United States
CATEGORIES:Church Events,Recurring Events
ATTACH;FMTTYPE=image/png:https://trinitytx.org/wp-content/uploads/2021/03/Welcome-to-Trinity-1920x1080-1.png
END:VEVENT
BEGIN:VEVENT
DTSTART;TZID=America/Chicago:20230101T093000
DTEND;TZID=America/Chicago:20230101T103000
DTSTAMP:20260424T041043
CREATED:20210324T193942Z
LAST-MODIFIED:20210324T193942Z
UID:4221-1672565400-1672569000@trinitytx.org
SUMMARY:Worship Service - 1st
DESCRIPTION:
URL:https://trinitytx.org/event/worship-service-1st-2023-01-01/
LOCATION:Trinity Baptist Church\, 2830 W Ferguson Rd\, Mt Pleasant\, TX\, 75455\, United States
CATEGORIES:Church Events,Recurring Events
ATTACH;FMTTYPE=image/png:https://trinitytx.org/wp-content/uploads/2021/03/Welcome-to-Trinity-1920x1080-1.png
END:VEVENT
BEGIN:VEVENT
DTSTART;TZID=America/Chicago:20221225T110000
DTEND;TZID=America/Chicago:20221225T120000
DTSTAMP:20260424T041043
CREATED:20210324T194256Z
LAST-MODIFIED:20210324T194256Z
UID:4325-1671966000-1671969600@trinitytx.org
SUMMARY:Worship Service - 2nd
DESCRIPTION:
URL:https://trinitytx.org/event/worship-service-2nd-2022-12-25/
LOCATION:Trinity Baptist Church\, 2830 W Ferguson Rd\, Mt Pleasant\, TX\, 75455\, United States
CATEGORIES:Church Events,Recurring Events
ATTACH;FMTTYPE=image/png:https://trinitytx.org/wp-content/uploads/2021/03/Welcome-to-Trinity-1920x1080-1.png
END:VEVENT
BEGIN:VEVENT
DTSTART;TZID=America/Chicago:20221225T093000
DTEND;TZID=America/Chicago:20221225T103000
DTSTAMP:20260424T041043
CREATED:20210324T193942Z
LAST-MODIFIED:20210324T193942Z
UID:4220-1671960600-1671964200@trinitytx.org
SUMMARY:Worship Service - 1st
DESCRIPTION:
URL:https://trinitytx.org/event/worship-service-1st-2022-12-25/
LOCATION:Trinity Baptist Church\, 2830 W Ferguson Rd\, Mt Pleasant\, TX\, 75455\, United States
CATEGORIES:Church Events,Recurring Events
ATTACH;FMTTYPE=image/png:https://trinitytx.org/wp-content/uploads/2021/03/Welcome-to-Trinity-1920x1080-1.png
END:VEVENT
BEGIN:VEVENT
DTSTART;TZID=America/Chicago:20221218T110000
DTEND;TZID=America/Chicago:20221218T120000
DTSTAMP:20260424T041043
CREATED:20210324T194256Z
LAST-MODIFIED:20210324T194256Z
UID:4324-1671361200-1671364800@trinitytx.org
SUMMARY:Worship Service - 2nd
DESCRIPTION:
URL:https://trinitytx.org/event/worship-service-2nd-2022-12-18/
LOCATION:Trinity Baptist Church\, 2830 W Ferguson Rd\, Mt Pleasant\, TX\, 75455\, United States
CATEGORIES:Church Events,Recurring Events
ATTACH;FMTTYPE=image/png:https://trinitytx.org/wp-content/uploads/2021/03/Welcome-to-Trinity-1920x1080-1.png
END:VEVENT
BEGIN:VEVENT
DTSTART;TZID=America/Chicago:20221218T093000
DTEND;TZID=America/Chicago:20221218T103000
DTSTAMP:20260424T041043
CREATED:20210324T193942Z
LAST-MODIFIED:20210324T193942Z
UID:4219-1671355800-1671359400@trinitytx.org
SUMMARY:Worship Service - 1st
DESCRIPTION:
URL:https://trinitytx.org/event/worship-service-1st-2022-12-18/
LOCATION:Trinity Baptist Church\, 2830 W Ferguson Rd\, Mt Pleasant\, TX\, 75455\, United States
CATEGORIES:Church Events,Recurring Events
ATTACH;FMTTYPE=image/png:https://trinitytx.org/wp-content/uploads/2021/03/Welcome-to-Trinity-1920x1080-1.png
END:VEVENT
BEGIN:VEVENT
DTSTART;TZID=America/Chicago:20221211T110000
DTEND;TZID=America/Chicago:20221211T120000
DTSTAMP:20260424T041043
CREATED:20210324T194256Z
LAST-MODIFIED:20210324T194256Z
UID:4323-1670756400-1670760000@trinitytx.org
SUMMARY:Worship Service - 2nd
DESCRIPTION:
URL:https://trinitytx.org/event/worship-service-2nd-2022-12-11/
LOCATION:Trinity Baptist Church\, 2830 W Ferguson Rd\, Mt Pleasant\, TX\, 75455\, United States
CATEGORIES:Church Events,Recurring Events
ATTACH;FMTTYPE=image/png:https://trinitytx.org/wp-content/uploads/2021/03/Welcome-to-Trinity-1920x1080-1.png
END:VEVENT
BEGIN:VEVENT
DTSTART;TZID=America/Chicago:20221211T093000
DTEND;TZID=America/Chicago:20221211T103000
DTSTAMP:20260424T041043
CREATED:20210324T193942Z
LAST-MODIFIED:20210324T193942Z
UID:4218-1670751000-1670754600@trinitytx.org
SUMMARY:Worship Service - 1st
DESCRIPTION:
URL:https://trinitytx.org/event/worship-service-1st-2022-12-11/
LOCATION:Trinity Baptist Church\, 2830 W Ferguson Rd\, Mt Pleasant\, TX\, 75455\, United States
CATEGORIES:Church Events,Recurring Events
ATTACH;FMTTYPE=image/png:https://trinitytx.org/wp-content/uploads/2021/03/Welcome-to-Trinity-1920x1080-1.png
END:VEVENT
BEGIN:VEVENT
DTSTART;TZID=America/Chicago:20221204T110000
DTEND;TZID=America/Chicago:20221204T120000
DTSTAMP:20260424T041043
CREATED:20210324T194256Z
LAST-MODIFIED:20210324T194256Z
UID:4322-1670151600-1670155200@trinitytx.org
SUMMARY:Worship Service - 2nd
DESCRIPTION:
URL:https://trinitytx.org/event/worship-service-2nd-2022-12-04/
LOCATION:Trinity Baptist Church\, 2830 W Ferguson Rd\, Mt Pleasant\, TX\, 75455\, United States
CATEGORIES:Church Events,Recurring Events
ATTACH;FMTTYPE=image/png:https://trinitytx.org/wp-content/uploads/2021/03/Welcome-to-Trinity-1920x1080-1.png
END:VEVENT
BEGIN:VEVENT
DTSTART;TZID=America/Chicago:20221204T093000
DTEND;TZID=America/Chicago:20221204T103000
DTSTAMP:20260424T041043
CREATED:20210324T193942Z
LAST-MODIFIED:20210324T193942Z
UID:4217-1670146200-1670149800@trinitytx.org
SUMMARY:Worship Service - 1st
DESCRIPTION:
URL:https://trinitytx.org/event/worship-service-1st-2022-12-04/
LOCATION:Trinity Baptist Church\, 2830 W Ferguson Rd\, Mt Pleasant\, TX\, 75455\, United States
CATEGORIES:Church Events,Recurring Events
ATTACH;FMTTYPE=image/png:https://trinitytx.org/wp-content/uploads/2021/03/Welcome-to-Trinity-1920x1080-1.png
END:VEVENT
BEGIN:VEVENT
DTSTART;TZID=America/Chicago:20221127T110000
DTEND;TZID=America/Chicago:20221127T120000
DTSTAMP:20260424T041043
CREATED:20210324T194256Z
LAST-MODIFIED:20210324T194256Z
UID:4321-1669546800-1669550400@trinitytx.org
SUMMARY:Worship Service - 2nd
DESCRIPTION:
URL:https://trinitytx.org/event/worship-service-2nd-2022-11-27/
LOCATION:Trinity Baptist Church\, 2830 W Ferguson Rd\, Mt Pleasant\, TX\, 75455\, United States
CATEGORIES:Church Events,Recurring Events
ATTACH;FMTTYPE=image/png:https://trinitytx.org/wp-content/uploads/2021/03/Welcome-to-Trinity-1920x1080-1.png
END:VEVENT
BEGIN:VEVENT
DTSTART;TZID=America/Chicago:20221127T093000
DTEND;TZID=America/Chicago:20221127T103000
DTSTAMP:20260424T041043
CREATED:20210324T193942Z
LAST-MODIFIED:20210324T193942Z
UID:4216-1669541400-1669545000@trinitytx.org
SUMMARY:Worship Service - 1st
DESCRIPTION:
URL:https://trinitytx.org/event/worship-service-1st-2022-11-27/
LOCATION:Trinity Baptist Church\, 2830 W Ferguson Rd\, Mt Pleasant\, TX\, 75455\, United States
CATEGORIES:Church Events,Recurring Events
ATTACH;FMTTYPE=image/png:https://trinitytx.org/wp-content/uploads/2021/03/Welcome-to-Trinity-1920x1080-1.png
END:VEVENT
BEGIN:VEVENT
DTSTART;TZID=America/Chicago:20221120T110000
DTEND;TZID=America/Chicago:20221120T120000
DTSTAMP:20260424T041043
CREATED:20210324T194256Z
LAST-MODIFIED:20210324T194256Z
UID:4320-1668942000-1668945600@trinitytx.org
SUMMARY:Worship Service - 2nd
DESCRIPTION:
URL:https://trinitytx.org/event/worship-service-2nd-2022-11-20/
LOCATION:Trinity Baptist Church\, 2830 W Ferguson Rd\, Mt Pleasant\, TX\, 75455\, United States
CATEGORIES:Church Events,Recurring Events
ATTACH;FMTTYPE=image/png:https://trinitytx.org/wp-content/uploads/2021/03/Welcome-to-Trinity-1920x1080-1.png
END:VEVENT
BEGIN:VEVENT
DTSTART;TZID=America/Chicago:20221120T093000
DTEND;TZID=America/Chicago:20221120T103000
DTSTAMP:20260424T041043
CREATED:20210324T193942Z
LAST-MODIFIED:20210324T193942Z
UID:4215-1668936600-1668940200@trinitytx.org
SUMMARY:Worship Service - 1st
DESCRIPTION:
URL:https://trinitytx.org/event/worship-service-1st-2022-11-20/
LOCATION:Trinity Baptist Church\, 2830 W Ferguson Rd\, Mt Pleasant\, TX\, 75455\, United States
CATEGORIES:Church Events,Recurring Events
ATTACH;FMTTYPE=image/png:https://trinitytx.org/wp-content/uploads/2021/03/Welcome-to-Trinity-1920x1080-1.png
END:VEVENT
BEGIN:VEVENT
DTSTART;TZID=America/Chicago:20221113T110000
DTEND;TZID=America/Chicago:20221113T120000
DTSTAMP:20260424T041043
CREATED:20210324T194256Z
LAST-MODIFIED:20210324T194256Z
UID:4319-1668337200-1668340800@trinitytx.org
SUMMARY:Worship Service - 2nd
DESCRIPTION:
URL:https://trinitytx.org/event/worship-service-2nd-2022-11-13/
LOCATION:Trinity Baptist Church\, 2830 W Ferguson Rd\, Mt Pleasant\, TX\, 75455\, United States
CATEGORIES:Church Events,Recurring Events
ATTACH;FMTTYPE=image/png:https://trinitytx.org/wp-content/uploads/2021/03/Welcome-to-Trinity-1920x1080-1.png
END:VEVENT
BEGIN:VEVENT
DTSTART;TZID=America/Chicago:20221113T093000
DTEND;TZID=America/Chicago:20221113T103000
DTSTAMP:20260424T041043
CREATED:20210324T193942Z
LAST-MODIFIED:20210324T193942Z
UID:4214-1668331800-1668335400@trinitytx.org
SUMMARY:Worship Service - 1st
DESCRIPTION:
URL:https://trinitytx.org/event/worship-service-1st-2022-11-13/
LOCATION:Trinity Baptist Church\, 2830 W Ferguson Rd\, Mt Pleasant\, TX\, 75455\, United States
CATEGORIES:Church Events,Recurring Events
ATTACH;FMTTYPE=image/png:https://trinitytx.org/wp-content/uploads/2021/03/Welcome-to-Trinity-1920x1080-1.png
END:VEVENT
BEGIN:VEVENT
DTSTART;TZID=America/Chicago:20221106T110000
DTEND;TZID=America/Chicago:20221106T120000
DTSTAMP:20260424T041043
CREATED:20210324T194256Z
LAST-MODIFIED:20210324T194256Z
UID:4318-1667732400-1667736000@trinitytx.org
SUMMARY:Worship Service - 2nd
DESCRIPTION:
URL:https://trinitytx.org/event/worship-service-2nd-2022-11-06/
LOCATION:Trinity Baptist Church\, 2830 W Ferguson Rd\, Mt Pleasant\, TX\, 75455\, United States
CATEGORIES:Church Events,Recurring Events
ATTACH;FMTTYPE=image/png:https://trinitytx.org/wp-content/uploads/2021/03/Welcome-to-Trinity-1920x1080-1.png
END:VEVENT
BEGIN:VEVENT
DTSTART;TZID=America/Chicago:20221106T093000
DTEND;TZID=America/Chicago:20221106T103000
DTSTAMP:20260424T041043
CREATED:20210324T193942Z
LAST-MODIFIED:20210324T193942Z
UID:4213-1667727000-1667730600@trinitytx.org
SUMMARY:Worship Service - 1st
DESCRIPTION:
URL:https://trinitytx.org/event/worship-service-1st-2022-11-06/
LOCATION:Trinity Baptist Church\, 2830 W Ferguson Rd\, Mt Pleasant\, TX\, 75455\, United States
CATEGORIES:Church Events,Recurring Events
ATTACH;FMTTYPE=image/png:https://trinitytx.org/wp-content/uploads/2021/03/Welcome-to-Trinity-1920x1080-1.png
END:VEVENT
BEGIN:VEVENT
DTSTART;TZID=America/Chicago:20221030T110000
DTEND;TZID=America/Chicago:20221030T120000
DTSTAMP:20260424T041043
CREATED:20210324T194256Z
LAST-MODIFIED:20210324T194256Z
UID:4317-1667127600-1667131200@trinitytx.org
SUMMARY:Worship Service - 2nd
DESCRIPTION:
URL:https://trinitytx.org/event/worship-service-2nd-2022-10-30/
LOCATION:Trinity Baptist Church\, 2830 W Ferguson Rd\, Mt Pleasant\, TX\, 75455\, United States
CATEGORIES:Church Events,Recurring Events
ATTACH;FMTTYPE=image/png:https://trinitytx.org/wp-content/uploads/2021/03/Welcome-to-Trinity-1920x1080-1.png
END:VEVENT
BEGIN:VEVENT
DTSTART;TZID=America/Chicago:20221030T093000
DTEND;TZID=America/Chicago:20221030T103000
DTSTAMP:20260424T041043
CREATED:20210324T193942Z
LAST-MODIFIED:20210324T193942Z
UID:4212-1667122200-1667125800@trinitytx.org
SUMMARY:Worship Service - 1st
DESCRIPTION:
URL:https://trinitytx.org/event/worship-service-1st-2022-10-30/
LOCATION:Trinity Baptist Church\, 2830 W Ferguson Rd\, Mt Pleasant\, TX\, 75455\, United States
CATEGORIES:Church Events,Recurring Events
ATTACH;FMTTYPE=image/png:https://trinitytx.org/wp-content/uploads/2021/03/Welcome-to-Trinity-1920x1080-1.png
END:VEVENT
BEGIN:VEVENT
DTSTART;TZID=America/Chicago:20221023T110000
DTEND;TZID=America/Chicago:20221023T120000
DTSTAMP:20260424T041043
CREATED:20210324T194256Z
LAST-MODIFIED:20210324T194256Z
UID:4316-1666522800-1666526400@trinitytx.org
SUMMARY:Worship Service - 2nd
DESCRIPTION:
URL:https://trinitytx.org/event/worship-service-2nd-2022-10-23/
LOCATION:Trinity Baptist Church\, 2830 W Ferguson Rd\, Mt Pleasant\, TX\, 75455\, United States
CATEGORIES:Church Events,Recurring Events
ATTACH;FMTTYPE=image/png:https://trinitytx.org/wp-content/uploads/2021/03/Welcome-to-Trinity-1920x1080-1.png
END:VEVENT
BEGIN:VEVENT
DTSTART;TZID=America/Chicago:20221023T093000
DTEND;TZID=America/Chicago:20221023T103000
DTSTAMP:20260424T041043
CREATED:20210324T193942Z
LAST-MODIFIED:20210324T193942Z
UID:4211-1666517400-1666521000@trinitytx.org
SUMMARY:Worship Service - 1st
DESCRIPTION:
URL:https://trinitytx.org/event/worship-service-1st-2022-10-23/
LOCATION:Trinity Baptist Church\, 2830 W Ferguson Rd\, Mt Pleasant\, TX\, 75455\, United States
CATEGORIES:Church Events,Recurring Events
ATTACH;FMTTYPE=image/png:https://trinitytx.org/wp-content/uploads/2021/03/Welcome-to-Trinity-1920x1080-1.png
END:VEVENT
BEGIN:VEVENT
DTSTART;TZID=America/Chicago:20221016T110000
DTEND;TZID=America/Chicago:20221016T120000
DTSTAMP:20260424T041043
CREATED:20210324T194256Z
LAST-MODIFIED:20210324T194256Z
UID:4315-1665918000-1665921600@trinitytx.org
SUMMARY:Worship Service - 2nd
DESCRIPTION:
URL:https://trinitytx.org/event/worship-service-2nd-2022-10-16/
LOCATION:Trinity Baptist Church\, 2830 W Ferguson Rd\, Mt Pleasant\, TX\, 75455\, United States
CATEGORIES:Church Events,Recurring Events
ATTACH;FMTTYPE=image/png:https://trinitytx.org/wp-content/uploads/2021/03/Welcome-to-Trinity-1920x1080-1.png
END:VEVENT
BEGIN:VEVENT
DTSTART;TZID=America/Chicago:20221016T093000
DTEND;TZID=America/Chicago:20221016T103000
DTSTAMP:20260424T041043
CREATED:20210324T193942Z
LAST-MODIFIED:20210324T193942Z
UID:4210-1665912600-1665916200@trinitytx.org
SUMMARY:Worship Service - 1st
DESCRIPTION:
URL:https://trinitytx.org/event/worship-service-1st-2022-10-16/
LOCATION:Trinity Baptist Church\, 2830 W Ferguson Rd\, Mt Pleasant\, TX\, 75455\, United States
CATEGORIES:Church Events,Recurring Events
ATTACH;FMTTYPE=image/png:https://trinitytx.org/wp-content/uploads/2021/03/Welcome-to-Trinity-1920x1080-1.png
END:VEVENT
BEGIN:VEVENT
DTSTART;TZID=America/Chicago:20221009T110000
DTEND;TZID=America/Chicago:20221009T120000
DTSTAMP:20260424T041043
CREATED:20210324T194256Z
LAST-MODIFIED:20210324T194256Z
UID:4314-1665313200-1665316800@trinitytx.org
SUMMARY:Worship Service - 2nd
DESCRIPTION:
URL:https://trinitytx.org/event/worship-service-2nd-2022-10-09/
LOCATION:Trinity Baptist Church\, 2830 W Ferguson Rd\, Mt Pleasant\, TX\, 75455\, United States
CATEGORIES:Church Events,Recurring Events
ATTACH;FMTTYPE=image/png:https://trinitytx.org/wp-content/uploads/2021/03/Welcome-to-Trinity-1920x1080-1.png
END:VEVENT
BEGIN:VEVENT
DTSTART;TZID=America/Chicago:20221009T093000
DTEND;TZID=America/Chicago:20221009T103000
DTSTAMP:20260424T041043
CREATED:20210324T193942Z
LAST-MODIFIED:20210324T193942Z
UID:4209-1665307800-1665311400@trinitytx.org
SUMMARY:Worship Service - 1st
DESCRIPTION:
URL:https://trinitytx.org/event/worship-service-1st-2022-10-09/
LOCATION:Trinity Baptist Church\, 2830 W Ferguson Rd\, Mt Pleasant\, TX\, 75455\, United States
CATEGORIES:Church Events,Recurring Events
ATTACH;FMTTYPE=image/png:https://trinitytx.org/wp-content/uploads/2021/03/Welcome-to-Trinity-1920x1080-1.png
END:VEVENT
BEGIN:VEVENT
DTSTART;TZID=America/Chicago:20221002T110000
DTEND;TZID=America/Chicago:20221002T120000
DTSTAMP:20260424T041043
CREATED:20210324T194256Z
LAST-MODIFIED:20210324T194256Z
UID:4313-1664708400-1664712000@trinitytx.org
SUMMARY:Worship Service - 2nd
DESCRIPTION:
URL:https://trinitytx.org/event/worship-service-2nd-2022-10-02/
LOCATION:Trinity Baptist Church\, 2830 W Ferguson Rd\, Mt Pleasant\, TX\, 75455\, United States
CATEGORIES:Church Events,Recurring Events
ATTACH;FMTTYPE=image/png:https://trinitytx.org/wp-content/uploads/2021/03/Welcome-to-Trinity-1920x1080-1.png
END:VEVENT
BEGIN:VEVENT
DTSTART;TZID=America/Chicago:20221002T093000
DTEND;TZID=America/Chicago:20221002T103000
DTSTAMP:20260424T041043
CREATED:20210324T193942Z
LAST-MODIFIED:20210324T193942Z
UID:4208-1664703000-1664706600@trinitytx.org
SUMMARY:Worship Service - 1st
DESCRIPTION:
URL:https://trinitytx.org/event/worship-service-1st-2022-10-02/
LOCATION:Trinity Baptist Church\, 2830 W Ferguson Rd\, Mt Pleasant\, TX\, 75455\, United States
CATEGORIES:Church Events,Recurring Events
ATTACH;FMTTYPE=image/png:https://trinitytx.org/wp-content/uploads/2021/03/Welcome-to-Trinity-1920x1080-1.png
END:VEVENT
END:VCALENDAR